Workbook

Sheet ANNEE
C2: RECAPITULATION DES HEURES SUPPLEMENTAIRES
F3: ANNEE | G3: 2026
B5: Nom - Prénom de l'agent: | F5: AUBRY Clement
A7: Mois | B7: Report Année précédente : | C7: 0 | D7: ="Répartition Heures à Récupérer" & CHAR(10) & "(heures normales de 7h à 22h)" -> Répartition Heures à Récupérer (heures normales de 7h à 22h) | I7: ="Répartition Heures à Payer" & CHAR(10) & "(heures normales de 7h à 22h)" -> Répartition Heures à Payer (heures normales de 7h à 22h)
B8: Travail effectué | C8: ="Heures" & CHAR(10) & "Récap." -> Heures Récap. | D8: ="14" & CHAR(10) & "premières" & CHAR(10) & "heures" -> 14 premières heures | E8: ="Au-delà" & CHAR(10) & "des 14" & CHAR(10) & "premières" & CHAR(10) & "heures" -> Au-delà des 14 premières heures | F8: ="dimanche" & CHAR(10) & "et jours" & CHAR(10) & "fériés" -> dimanche et jours fériés | G8: ="Heures" & CHAR(10) & "de nuit" & CHAR(10) & "22h à 7h" -> Heures de nuit 22h à 7h | H8: ="Total" & CHAR(10) &"A"& CHAR(10) & "Récup." -> Total A Récup. | I8: ="Heures" & CHAR(10) & "normales" -> Heures normales | J8: ="dimanche" & CHAR(10) & "et jours" & CHAR(10) & "fériés" -> dimanche et jours fériés | K8: ="Heures" & CHAR(10) & "de nuit" & CHAR(10) & "22h à 7h" -> Heures de nuit 22h à 7h | L8: ="Total" & CHAR(10) &"A"& CHAR(10) & "Payé" -> Total A Payé | M8: ="Total" & CHAR(10) &"Heures"& CHAR(10) & "Récupérées" -> Total Heures Récupérées | O8: Jours Fériés | R8: ASTREINTES
O9: 44561 | R9: Filière | S9: ID | T9: Type | U9: Récup.
A10: JANVIER | B10: 44561 | C10: =IF(NOW()>=$B10,JANVIER!$E$33,) -> 0 | D10: =JANVIER!$F$32 -> 0 | E10: =JANVIER!$G$32 -> 0 | F10: =JANVIER!$H$32 -> 0 | G10: =JANVIER!$I$32 -> 0 | H10: =SUM(D10:G10) -> 0 | I10: =JANVIER!$K$25 -> 0 | J10: =JANVIER!$L$25 -> 0 | K10: =JANVIER!$M$25 -> 0 | L10: =SUM(I10:K10) -> 0 | M10: =JANVIER!$E$25 -> 0 | O10: 44656 | R10: Autre | S10: 1 | T10: Semaine complète | U10: 0.4375
A11: FEVRIER | B11: 44592 | C11: =IF(NOW()>=$B11,FEVRIER!$E$33,) -> 0 | D11: =FEVRIER!$F$32 -> 0 | E11: =FEVRIER!$G$32 -> 0 | F11: =FEVRIER!$H$32 -> 0 | G11: =FEVRIER!$I$32 -> 0 | H11: =SUM(D11:G11) -> 0 | I11: =FEVRIER!$K$25 -> 0 | J11: =FEVRIER!$L$25 -> 0 | K11: =FEVRIER!$M$25 -> 0 | L11: =SUM(I11:K11) -> 0 | M11: =FEVRIER!$E$25 -> 0 | O11: 44681 | R11: Autre | S11: 2 | T11: Du vendredi soir au lundi matin | U11: 0.29166667
A12: MARS | B12: 44620 | C12: =IF(NOW()>=$B12,MARS!$E$33,) -> 0 | D12: =MARS!$F$32 -> 0 | E12: =MARS!$G$32 -> 0 | F12: =MARS!$H$32 -> 0 | G12: =MARS!$I$32 -> 0 | H12: =SUM(D12:G12) -> 0 | I12: =MARS!$K$25 -> 0 | J12: =MARS!$L$25 -> 0 | K12: =MARS!$M$25 -> 0 | L12: =SUM(I12:K12) -> 0 | M12: =MARS!$E$25 -> 0 | O12: 44688 | R12: Autre | S12: 3 | T12: Du lundi matin au vendredi soir | U12: 0.14583333
A13: AVRIL | B13: 44651 | C13: =IF(NOW()>=$B13,AVRIL!$E$33,) -> 0 | D13: =AVRIL!$F$32 -> 0 | E13: =AVRIL!$G$32 -> 0 | F13: =AVRIL!$H$32 -> 0 | G13: =AVRIL!$I$32 -> 0 | H13: =SUM(D13:G13) -> 0 | I13: =AVRIL!$K$25 -> 0 | J13: =AVRIL!$L$25 -> 0 | K13: =AVRIL!$M$25 -> 0 | L13: =SUM(I13:K13) -> 0 | M13: =AVRIL!$E$25 -> 0 | O13: 44694 | R13: Autre | S13: 4 | T13: Samedi | U13: 0.14583333
A14: MAI | B14: 44681 | C14: =IF(NOW()>=$B14,MAI!$E$33,) -> 0 | D14: =MAI!$F$32 -> 0 | E14: =MAI!$G$32 -> 0 | F14: =MAI!$H$32 -> 0 | G14: =MAI!$I$32 -> 0 | H14: =SUM(D14:G14) -> 0 | I14: =MAI!$K$25 -> 0 | J14: =MAI!$L$25 -> 0 | K14: =MAI!$M$25 -> 0 | L14: =SUM(I14:K14) -> 0 | M14: =MAI!$E$25 -> 0 | O14: 44705 | R14: Autre | S14: 5 | T14: Dimanche ou jour férié | U14: 0.14583333
A15: JUIN | B15: 44712 | C15: =IF(NOW()>=$B15,JUIN!$E$33,) -> 0 | D15: =JUIN!$F$32 -> 0 | E15: =JUIN!$G$32 -> 0 | F15: =JUIN!$H$32 -> 0 | G15: =JUIN!$I$32 -> 0 | H15: =SUM(D15:G15) -> 0 | I15: =JUIN!$K$25 -> 0 | J15: =JUIN!$L$25 -> 0 | K15: =JUIN!$M$25 -> 0 | L15: =SUM(I15:K15) -> 0 | M15: =JUIN!$E$25 -> 0 | O15: 44755 | R15: Autre | S15: 6 | T15: Nuit en semaine | U15: 0.083333333
A16: JUILLET | B16: 44742 | C16: =IF(NOW()>=$B16,JUILLET!$E$33,) -> 0 | D16: =JUILLET!$F$32 -> 0 | E16: =JUILLET!$G$32 -> 0 | F16: =JUILLET!$H$32 -> 0 | G16: =JUILLET!$I$32 -> 0 | H16: =SUM(D16:G16) -> 0 | I16: =JUILLET!$K$25 -> 0 | J16: =JUILLET!$L$25 -> 0 | K16: =JUILLET!$M$25 -> 0 | L16: =SUM(I16:K16) -> 0 | M16: =JUILLET!$E$25 -> 0 | O16: 44787 | P16: 7 | R16: Autre | S16: 7 | T16: Semaine complète (MAJOREE-délai de prévenance inf. 15 jours) | U16: 0.65625
A17: AOUT | B17: 44773 | C17: =IF(NOW()>=$B17,AOUT!$E$33,) -> 0 | D17: =AOUT!$F$32 -> 0 | E17: =AOUT!$G$32 -> 0 | F17: =AOUT!$H$32 -> 0 | G17: =AOUT!$I$32 -> 0 | H17: =SUM(D17:G17) -> 0 | I17: =AOUT!$K$25 -> 0 | J17: =AOUT!$L$25 -> 0 | K17: =AOUT!$M$25 -> 0 | L17: =SUM(I17:K17) -> 0 | M17: =AOUT!$E$25 -> 0 | O17: 44865 | P17: 7 | R17: Autre | S17: 8 | T17: Du vendredi soir au lundi matin (MAJOREE-délai de prévenance inf. 15 jours) | U17: 0.4375
A18: SEPTEMBRE | B18: 44804 | C18: =IF(NOW()>=$B18,SEPTEMBRE!$E$33,) -> 0 | D18: =SEPTEMBRE!$F$32 -> 0 | E18: =SEPTEMBRE!$G$32 -> 0 | F18: =SEPTEMBRE!$H$32 -> 0 | G18: =SEPTEMBRE!$I$32 -> 0 | H18: =SUM(D18:G18) -> 0 | I18: =SEPTEMBRE!$K$25 -> 0 | J18: =SEPTEMBRE!$L$25 -> 0 | K18: =SEPTEMBRE!$M$25 -> 0 | L18: =SUM(I18:K18) -> 0 | M18: =SEPTEMBRE!$E$25 -> 0 | O18: 44875 | P18: 7 | R18: Autre | S18: 9 | T18: Du lundi matin au vendredi soir (MAJOREE-délai de prévenance inf. 15 jours) | U18: 0.21875
A19: OCTOBRE | B19: 44834 | C19: =IF(NOW()>=$B19,OCTOBRE!$E$33,) -> 0 | D19: =OCTOBRE!$F$32 -> 0 | E19: =OCTOBRE!$G$32 -> 0 | F19: =OCTOBRE!$H$32 -> 0 | G19: =OCTOBRE!$I$32 -> 0 | H19: =SUM(D19:G19) -> 0 | I19: =OCTOBRE!$K$25 -> 0 | J19: =OCTOBRE!$L$25 -> 0 | K19: =OCTOBRE!$M$25 -> 0 | L19: =SUM(I19:K19) -> 0 | M19: =OCTOBRE!$E$25 -> 0 | O19: 44919 | P19: 7 | R19: Autre | S19: 10 | T19: Samedi (MAJOREE-délai de prévenance inf. 15 jours) | U19: 0.21875
A20: NOVEMBRE | B20: 44865 | C20: =IF(NOW()>=$B20,NOVEMBRE!$E$33,) -> 0 | D20: =NOVEMBRE!$F$32 -> 0 | E20: =NOVEMBRE!$G$32 -> 0 | F20: =NOVEMBRE!$H$32 -> 0 | G20: =NOVEMBRE!$I$32 -> 0 | H20: =SUM(D20:G20) -> 0 | I20: =NOVEMBRE!$K$25 -> 0 | J20: =NOVEMBRE!$L$25 -> 0 | K20: =NOVEMBRE!$M$25 -> 0 | L20: =SUM(I20:K20) -> 0 | M20: =NOVEMBRE!$E$25 -> 0 | P20: 7 | R20: Autre | S20: 11 | T20: Dimanche ou jour férié (MAJOREE-délai de prévenance inf. 15 jours) | U20: 0.21875
A21: DECEMBRE | B21: 44895 | C21: =IF(NOW()>=$B21,DECEMBRE!$E$33,) -> 0 | D21: =DECEMBRE!$F$32 -> 0 | E21: =DECEMBRE!$G$32 -> 0 | F21: =DECEMBRE!$H$32 -> 0 | G21: =DECEMBRE!$I$32 -> 0 | H21: =SUM(D21:G21) -> 0 | I21: =DECEMBRE!$K$25 -> 0 | J21: =DECEMBRE!$L$25 -> 0 | K21: =DECEMBRE!$M$25 -> 0 | L21: =SUM(I21:K21) -> 0 | M21: =DECEMBRE!$E$25 -> 0 | O21: Motifs | P21: 7 | R21: Autre | S21: 12 | T21: Nuit en semaine (MAJOREE-délai de prévenance inf. 15 jours) | U21: 0.125
B22: A reporter l'an prochain : | C22: =DECEMBRE!$E$33 -> 0 | D22: =SUM(D10:D21) -> 0 | E22: =SUM(E10:E21) -> 0 | F22: =SUM(F10:F21) -> 0 | G22: =SUM(G10:G21) -> 0 | H22: =SUM(H10:H21) -> 0 | I22: =SUM(I10:I21) -> 0 | J22: =SUM(J10:J21) -> 0 | K22: =SUM(K10:K21) -> 0 | L22: =SUM(L10:L21) -> 0 | O22: A-Manifestations | P22: 7 | R22: Tech | S22: 13 | T22: Décision- Semaine complète (Filière Technique)
H23: TOTAL Heures Récupérées dans l'année : | M23: =SUM(M10:M21) -> 0 | O23: B-Interventions | P23: 7 | R23: Tech | S23: 14 | T23: Décision- Lundi au samedi <10h (Filière Technique)
C24: Majorations | D24: 1 | E24: 1 | F24: 1.6666667 | G24: 2 | I24: 1,25 / 1,27 | J24: 1.6666667 | K24: 2 | O24: C-Administratifs/réunions | P24: 7 | R24: Tech | S24: 15 | T24: Décision- Lundi au samedi >10h (Filière Technique)
O25: D-Autres | P25: 7 | R25: Tech | S25: 16 | T25: Décision- Samedi ou jour récup. (Filière Technique)
O26: E-Port Grimaud | P26: 7 | R26: Tech | S26: 17 | T26: Décision- Dimanche ou férié (Filière Technique)
R27: Tech | S27: 18 | T27: Décision- Week-end (Filière Technique)
O28: Choix | R28: Tech | S28: 19 | T28: Exploit.- Semaine complète (Filière Technique)
O29: oui | R29: Tech | S29: 20 | T29: Exploit.- Lundi au samedi <10h (Filière Technique)
O30: non | R30: Tech | S30: 21 | T30: Exploit.- Lundi au samedi >10h (Filière Technique)
R31: Tech | S31: 22 | T31: Exploit.- Samedi ou jour récup. (Filière Technique)
R32: Tech | S32: 23 | T32: Exploit.- Dimanche ou férié (Filière Technique)
R33: Tech | S33: 24 | T33: Exploit.- Week-end (Filière Technique)
R34: Tech | S34: 25 | T34: Sécurité- Semaine complète (Filière Technique)
R35: Tech | S35: 26 | T35: Sécurité- Lundi au samedi <10h (Filière Technique)
R36: Tech | S36: 27 | T36: Sécurité- Lundi au samedi >10h (Filière Technique)
R37: Tech | S37: 28 | T37: Sécurité- Samedi ou jour récup. (Filière Technique)
R38: Tech | S38: 29 | T38: Sécurité- Dimanche ou férié (Filière Technique)
R39: Tech | S39: 30 | T39: Sécurité- Week-end (Filière Technique)
R40: Tech | S40: 31 | T40: Exploit.- Semaine complète (F.Tech MAJOREE-délai de prévenance inf. 15 jours)
R41: Tech | S41: 32 | T41: Exploit.- Lundi au samedi <10h (F.Tech MAJOREE-délai de prévenance inf. 15 jours)
R42: Tech | S42: 33 | T42: Exploit.- Lundi au samedi >10h (F.Tech MAJOREE-délai de prévenance inf. 15 jours)
... R51: Tech | S51: 42 | T51: Sécurité- Week-end (F.Tech MAJOREE-délai de prévenance inf. 15 jours)

Sheet JANVIER
A1: DECLARATION DES HEURES SUPPLEMENTAIRES | G1: =ANNEE!$A$10 &" "&ANNEE!$G$3 -> JANVIER 2026 | K1: =ANNEE!$F$5 -> AUBRY Clement
A2: Dates | B2: Horaires | D2: Report mois précédent : | E2: =ANNEE!$C$7 -> 0 | F2: ="Répartition Heures à Récupérer" & CHAR(10) & "(heures normales de 7h à 22h)" -> Répartition Heures à Récupérer (heures normales de 7h à 22h) | K2: ="Répartition Heures à Payer" & CHAR(10) & "(heures normales de 7h à 22h)" -> Répartition Heures à Payer (heures normales de 7h à 22h)
B3: Début | C3: Fin | D3: Travail effectué | E3: ="Heures" & CHAR(10) & CHAR(10) & "Effectuées" -> Heures Effectuées | F3: ="14" & CHAR(10) & "premières" & CHAR(10) & "heures" -> 14 premières heures | G3: ="Au-delà" & CHAR(10) & "des 14" & CHAR(10) & "premières" & CHAR(10) & "heures" -> Au-delà des 14 premières heures | H3: ="Dimanche" & CHAR(10) & "et jours" & CHAR(10) & "fériés" -> Dimanche et jours fériés | I3: ="Heures" & CHAR(10) & "de nuit" & CHAR(10) & "22h à 7h" -> Heures de nuit 22h à 7h | J3: ="Total" & CHAR(10) &"A"& CHAR(10) & "Récup." -> Total A Récup. | K3: ="Heures" & CHAR(10) & "normales" -> Heures normales | L3: ="Dimanche" & CHAR(10) & "et jours" & CHAR(10) & "fériés" -> Dimanche et jours fériés | M3: ="Heures" & CHAR(10) & "de nuit" & CHAR(10) & "22h à 7h" -> Heures de nuit 22h à 7h | N3: ="Total" & CHAR(10) &"A"& CHAR(10) & "Payé" -> Total A Payé
O4: Motif | T4: 0.58333333
E5: =IF((C5-B5)<0,C5-B5+1,C5-B5) -> 0 | J5: =SUM(F5:I5) -> 0 | N5: =SUM(K5:M5) -> 0 | Q5: =IF($A5="",0,IFERROR(VLOOKUP($A5,ANNEE!$O$15:$P$27,2,FALSE),WEEKDAY($A5,2))) -> 0 | S5: =LEFT(O5,1) | T5: =F5 -> 0
E6: =IF((C6-B6)<0,C6-B6+1,C6-B6) -> 0 | J6: =SUM(F6:I6) -> 0 | N6: =SUM(K6:M6) -> 0 | Q6: =IF($A6="",0,IFERROR(VLOOKUP($A6,ANNEE!$O$15:$P$27,2,FALSE),WEEKDAY($A6,2))) -> 0 | S6: =LEFT(O6,1) | T6: =T5+F6 -> 0
E7: =IF((C7-B7)<0,C7-B7+1,C7-B7) -> 0 | J7: =SUM(F7:I7) -> 0 | N7: =SUM(K7:M7) -> 0 | Q7: =IF($A7="",0,IFERROR(VLOOKUP($A7,ANNEE!$O$15:$P$27,2,FALSE),WEEKDAY($A7,2))) -> 0 | S7: =LEFT(O7,1) | T7: =T6+F7 -> 0
E8: =IF((C8-B8)<0,C8-B8+1,C8-B8) -> 0 | J8: =SUM(F8:I8) -> 0 | N8: =SUM(K8:M8) -> 0 | Q8: =IF($A8="",0,IFERROR(VLOOKUP($A8,ANNEE!$O$15:$P$27,2,FALSE),WEEKDAY($A8,2))) -> 0 | S8: =LEFT(O8,1) | T8: =T7+F8 -> 0
E9: =IF((C9-B9)<0,C9-B9+1,C9-B9) -> 0 | J9: =SUM(F9:I9) -> 0 | N9: =SUM(K9:M9) -> 0 | Q9: =IF($A9="",0,IFERROR(VLOOKUP($A9,ANNEE!$O$15:$P$27,2,FALSE),WEEKDAY($A9,2))) -> 0 | S9: =LEFT(O9,1) | T9: =T8+F9 -> 0
E10: =IF((C10-B10)<0,C10-B10+1,C10-B10) -> 0 | J10: =SUM(F10:I10) -> 0 | N10: =SUM(K10:M10) -> 0 | Q10: =IF($A10="",0,IFERROR(VLOOKUP($A10,ANNEE!$O$15:$P$27,2,FALSE),WEEKDAY($A10,2))) -> 0 | S10: =LEFT(O10,1) | T10: =T9+F10 -> 0
E11: =IF((C11-B11)<0,C11-B11+1,C11-B11) -> 0 | J11: =SUM(F11:I11) -> 0 | N11: =SUM(K11:M11) -> 0 | Q11: =IF($A11="",0,IFERROR(VLOOKUP($A11,ANNEE!$O$15:$P$27,2,FALSE),WEEKDAY($A11,2))) -> 0 | S11: =LEFT(O11,1) | T11: =T10+F11 -> 0
E12: =IF((C12-B12)<0,C12-B12+1,C12-B12) -> 0 | J12: =SUM(F12:I12) -> 0 | N12: =SUM(K12:M12) -> 0 | Q12: =IF($A12="",0,IFERROR(VLOOKUP($A12,ANNEE!$O$15:$P$27,2,FALSE),WEEKDAY($A12,2))) -> 0 | S12: =LEFT(O12,1) | T12: =T11+F12 -> 0
E13: =IF((C13-B13)<0,C13-B13+1,C13-B13) -> 0 | J13: =SUM(F13:I13) -> 0 | N13: =SUM(K13:M13) -> 0 | Q13: =IF($A13="",0,IFERROR(VLOOKUP($A13,ANNEE!$O$15:$P$27,2,FALSE),WEEKDAY($A13,2))) -> 0 | S13: =LEFT(O13,1) | T13: =T12+F13 -> 0
E14: =IF((C14-B14)<0,C14-B14+1,C14-B14) -> 0 | J14: =SUM(F14:I14) -> 0 | N14: =SUM(K14:M14) -> 0 | Q14: =IF($A14="",0,IFERROR(VLOOKUP($A14,ANNEE!$O$15:$P$27,2,FALSE),WEEKDAY($A14,2))) -> 0 | S14: =LEFT(O14,1) | T14: =T13+F14 -> 0
E15: =IF((C15-B15)<0,C15-B15+1,C15-B15) -> 0 | J15: =SUM(F15:I15) -> 0 | N15: =SUM(K15:M15) -> 0 | Q15: =IF($A15="",0,IFERROR(VLOOKUP($A15,ANNEE!$O$15:$P$27,2,FALSE),WEEKDAY($A15,2))) -> 0 | S15: =LEFT(O15,1) | T15: =T14+F15 -> 0
E16: =IF((C16-B16)<0,C16-B16+1,C16-B16) -> 0 | J16: =SUM(F16:I16) -> 0 | N16: =SUM(K16:M16) -> 0 | Q16: =IF($A16="",0,IFERROR(VLOOKUP($A16,ANNEE!$O$15:$P$27,2,FALSE),WEEKDAY($A16,2))) -> 0 | S16: =LEFT(O16,1) | T16: =T15+F16 -> 0
E17: =IF((C17-B17)<0,C17-B17+1,C17-B17) -> 0 | J17: =SUM(F17:I17) -> 0 | N17: =SUM(K17:M17) -> 0 | Q17: =IF($A17="",0,IFERROR(VLOOKUP($A17,ANNEE!$O$15:$P$27,2,FALSE),WEEKDAY($A17,2))) -> 0 | S17: =LEFT(O17,1) | T17: =T16+F17 -> 0
... E24: =IF((C24-B24)<0,C24-B24+1,C24-B24) -> 0 | J24: =SUM(F24:I24) -> 0 | N24: =SUM(K24:M24) -> 0 | Q24: =IF($A24="",0,IFERROR(VLOOKUP($A24,ANNEE!$O$15:$P$27,2,FALSE),WEEKDAY($A24,2))) -> 0 | S24: =LEFT(O24,1) | T24: =T23+F24 -> 0
A25: DECLARATION des Heures Récupérées dans le mois : | F25: =SUM(F5:F24) -> 0 | G25: =SUM(G5:G24) -> 0 | H25: =SUM(H5:H24) -> 0 | I25: =SUM(I5:I24) -> 0 | J25: =SUM(J5:J24) -> 0 | K25: =SUM(K5:K24) -> 0 | L25: =SUM(L5:L24) -> 0 | M25: =SUM(M5:M24) -> 0 | N25: =SUM(K25:M25) -> 0 | T25: 1.0416667
A26: DECLARATION ASTREINTES | B26: Date début | C26: Date fin | D26: Type d'astreinte | F26: Repos compensateur (oui/non) | K26: Astreintes à payer (oui/non) | O26: Motif
G27: =IF($F27="oui",_xlfn.XLOOKUP($D27,ANNEE!$T$10:$T$51,ANNEE!$U$10:$U$51,0),0) -> 0 | L27: =IF($K27="oui",IF(_xlfn.XLOOKUP($D27,ANNEE!$T$22:$T$51,ANNEE!$S$22:$S$51,0)>0,1,0),0) -> 0 | Q27: =_xlfn.XLOOKUP($D27,ANNEE!$T$22:$T$51,ANNEE!$S$22:$S$51,0) -> 0 | S27: =LEFT(O27,1)
G28: =IF($F28="oui",_xlfn.XLOOKUP($D28,ANNEE!$T$10:$T$51,ANNEE!$U$10:$U$51,0),0) -> 0 | L28: =IF($K28="oui",IF(_xlfn.XLOOKUP($D28,ANNEE!$T$22:$T$51,ANNEE!$S$22:$S$51,0)>0,1,0),0) -> 0 | Q28: =_xlfn.XLOOKUP($D28,ANNEE!$T$22:$T$51,ANNEE!$S$22:$S$51,0) -> 0 | S28: =LEFT(O28,1)
G29: =IF($F29="oui",_xlfn.XLOOKUP($D29,ANNEE!$T$10:$T$51,ANNEE!$U$10:$U$51,0),0) -> 0 | L29: =IF($K29="oui",IF(_xlfn.XLOOKUP($D29,ANNEE!$T$22:$T$51,ANNEE!$S$22:$S$51,0)>0,1,0),0) -> 0 | Q29: =_xlfn.XLOOKUP($D29,ANNEE!$T$22:$T$51,ANNEE!$S$22:$S$51,0) -> 0 | S29: =LEFT(O29,1)
G30: =IF($F30="oui",_xlfn.XLOOKUP($D30,ANNEE!$T$10:$T$51,ANNEE!$U$10:$U$51,0),0) -> 0 | L30: =IF($K30="oui",IF(_xlfn.XLOOKUP($D30,ANNEE!$T$22:$T$51,ANNEE!$S$22:$S$51,0)>0,1,0),0) -> 0 | Q30: =_xlfn.XLOOKUP($D30,ANNEE!$T$22:$T$51,ANNEE!$S$22:$S$51,0) -> 0 | S30: =LEFT(O30,1)
G31: =IF($F31="oui",_xlfn.XLOOKUP($D31,ANNEE!$T$10:$T$51,ANNEE!$U$10:$U$51,0),0) -> 0 | L31: =IF($K31="oui",IF(_xlfn.XLOOKUP($D31,ANNEE!$T$22:$T$51,ANNEE!$S$22:$S$51,0)>0,1,0),0) -> 0 | Q31: =_xlfn.XLOOKUP($D31,ANNEE!$T$22:$T$51,ANNEE!$S$22:$S$51,0) -> 0 | S31: =LEFT(O31,1)
F32: =F$25*ANNEE!D$24++SUM(J27:J31) -> 0 | G32: =G$25*ANNEE!E$24 -> 0 | H32: =H$25*ANNEE!F$24 -> 0 | I32: =I$25*ANNEE!G$24 -> 0 | J32: =SUM(F32:I32)+$E$2-$E$25 -> 0
D33: A Reporter : | E33: =J32 -> 0
D35: Signature agent obligatoire | E35: Signature du Chef de Service | J35: Enregistrement DRH

Sheet FEVRIER
A1: DECLARATION DES HEURES SUPPLEMENTAIRES | G1: =ANNEE!$A$11 &" "&ANNEE!$G$3 -> FEVRIER 2026 | K1: =ANNEE!$F$5 -> AUBRY Clement
A2: Dates | B2: Horaires | D2: Report mois précédent : | E2: =JANVIER!$E$33 -> 0 | F2: ="Répartition Heures à Récupérer" & CHAR(10) & "(heures normales de 7h à 22h)" -> Répartition Heures à Récupérer (heures normales de 7h à 22h) | K2: ="Répartition Heures à Payer" & CHAR(10) & "(heures normales de 7h à 22h)" -> Répartition Heures à Payer (heures normales de 7h à 22h)
B3: Début | C3: Fin | D3: Travail effectué | E3: ="Heures" & CHAR(10) & CHAR(10) & "Effectuées" -> Heures Effectuées | F3: ="14" & CHAR(10) & "premières" & CHAR(10) & "heures" -> 14 premières heures | G3: ="Au-delà" & CHAR(10) & "des 14" & CHAR(10) & "premières" & CHAR(10) & "heures" -> Au-delà des 14 premières heures | H3: ="Dimanche" & CHAR(10) & "et jours" & CHAR(10) & "fériés" -> Dimanche et jours fériés | I3: ="Heures" & CHAR(10) & "de nuit" & CHAR(10) & "22h à 7h" -> Heures de nuit 22h à 7h | J3: ="Total" & CHAR(10) &"A"& CHAR(10) & "Récup." -> Total A Récup. | K3: ="Heures" & CHAR(10) & "normales" -> Heures normales | L3: ="Dimanche" & CHAR(10) & "et jours" & CHAR(10) & "fériés" -> Dimanche et jours fériés | M3: ="Heures" & CHAR(10) & "de nuit" & CHAR(10) & "22h à 7h" -> Heures de nuit 22h à 7h | N3: ="Total" & CHAR(10) &"A"& CHAR(10) & "Payé" -> Total A Payé
O4: Motif | T4: 0.58333333
E5: =IF((C5-B5)<0,C5-B5+1,C5-B5) -> 0 | J5: =SUM(F5:I5) -> 0 | N5: =SUM(K5:M5) -> 0 | Q5: =IF($A5="",0,IFERROR(VLOOKUP($A5,ANNEE!$O$15:$P$27,2,FALSE),WEEKDAY($A5,2))) -> 0 | S5: =LEFT(O5,1) | T5: =F5 -> 0
E6: =IF((C6-B6)<0,C6-B6+1,C6-B6) -> 0 | J6: =SUM(F6:I6) -> 0 | N6: =SUM(K6:M6) -> 0 | Q6: =IF($A6="",0,IFERROR(VLOOKUP($A6,ANNEE!$O$15:$P$27,2,FALSE),WEEKDAY($A6,2))) -> 0 | S6: =LEFT(O6,1) | T6: =T5+F6 -> 0
E7: =IF((C7-B7)<0,C7-B7+1,C7-B7) -> 0 | J7: =SUM(F7:I7) -> 0 | N7: =SUM(K7:M7) -> 0 | Q7: =IF($A7="",0,IFERROR(VLOOKUP($A7,ANNEE!$O$15:$P$27,2,FALSE),WEEKDAY($A7,2))) -> 0 | S7: =LEFT(O7,1) | T7: =T6+F7 -> 0
E8: =IF((C8-B8)<0,C8-B8+1,C8-B8) -> 0 | J8: =SUM(F8:I8) -> 0 | N8: =SUM(K8:M8) -> 0 | Q8: =IF($A8="",0,IFERROR(VLOOKUP($A8,ANNEE!$O$15:$P$27,2,FALSE),WEEKDAY($A8,2))) -> 0 | S8: =LEFT(O8,1) | T8: =T7+F8 -> 0
E9: =IF((C9-B9)<0,C9-B9+1,C9-B9) -> 0 | J9: =SUM(F9:I9) -> 0 | N9: =SUM(K9:M9) -> 0 | Q9: =IF($A9="",0,IFERROR(VLOOKUP($A9,ANNEE!$O$15:$P$27,2,FALSE),WEEKDAY($A9,2))) -> 0 | S9: =LEFT(O9,1) | T9: =T8+F9 -> 0
E10: =IF((C10-B10)<0,C10-B10+1,C10-B10) -> 0 | J10: =SUM(F10:I10) -> 0 | N10: =SUM(K10:M10) -> 0 | Q10: =IF($A10="",0,IFERROR(VLOOKUP($A10,ANNEE!$O$15:$P$27,2,FALSE),WEEKDAY($A10,2))) -> 0 | S10: =LEFT(O10,1) | T10: =T9+F10 -> 0
E11: =IF((C11-B11)<0,C11-B11+1,C11-B11) -> 0 | J11: =SUM(F11:I11) -> 0 | N11: =SUM(K11:M11) -> 0 | Q11: =IF($A11="",0,IFERROR(VLOOKUP($A11,ANNEE!$O$15:$P$27,2,FALSE),WEEKDAY($A11,2))) -> 0 | S11: =LEFT(O11,1) | T11: =T10+F11 -> 0
E12: =IF((C12-B12)<0,C12-B12+1,C12-B12) -> 0 | J12: =SUM(F12:I12) -> 0 | N12: =SUM(K12:M12) -> 0 | Q12: =IF($A12="",0,IFERROR(VLOOKUP($A12,ANNEE!$O$15:$P$27,2,FALSE),WEEKDAY($A12,2))) -> 0 | S12: =LEFT(O12,1) | T12: =T11+F12 -> 0
E13: =IF((C13-B13)<0,C13-B13+1,C13-B13) -> 0 | J13: =SUM(F13:I13) -> 0 | N13: =SUM(K13:M13) -> 0 | Q13: =IF($A13="",0,IFERROR(VLOOKUP($A13,ANNEE!$O$15:$P$27,2,FALSE),WEEKDAY($A13,2))) -> 0 | S13: =LEFT(O13,1) | T13: =T12+F13 -> 0
E14: =IF((C14-B14)<0,C14-B14+1,C14-B14) -> 0 | J14: =SUM(F14:I14) -> 0 | N14: =SUM(K14:M14) -> 0 | Q14: =IF($A14="",0,IFERROR(VLOOKUP($A14,ANNEE!$O$15:$P$27,2,FALSE),WEEKDAY($A14,2))) -> 0 | S14: =LEFT(O14,1) | T14: =T13+F14 -> 0
E15: =IF((C15-B15)<0,C15-B15+1,C15-B15) -> 0 | J15: =SUM(F15:I15) -> 0 | N15: =SUM(K15:M15) -> 0 | Q15: =IF($A15="",0,IFERROR(VLOOKUP($A15,ANNEE!$O$15:$P$27,2,FALSE),WEEKDAY($A15,2))) -> 0 | S15: =LEFT(O15,1) | T15: =T14+F15 -> 0
E16: =IF((C16-B16)<0,C16-B16+1,C16-B16) -> 0 | J16: =SUM(F16:I16) -> 0 | N16: =SUM(K16:M16) -> 0 | Q16: =IF($A16="",0,IFERROR(VLOOKUP($A16,ANNEE!$O$15:$P$27,2,FALSE),WEEKDAY($A16,2))) -> 0 | S16: =LEFT(O16,1) | T16: =T15+F16 -> 0
E17: =IF((C17-B17)<0,C17-B17+1,C17-B17) -> 0 | J17: =SUM(F17:I17) -> 0 | N17: =SUM(K17:M17) -> 0 | Q17: =IF($A17="",0,IFERROR(VLOOKUP($A17,ANNEE!$O$15:$P$27,2,FALSE),WEEKDAY($A17,2))) -> 0 | S17: =LEFT(O17,1) | T17: =T16+F17 -> 0
... E24: =IF((C24-B24)<0,C24-B24+1,C24-B24) -> 0 | J24: =SUM(F24:I24) -> 0 | N24: =SUM(K24:M24) -> 0 | Q24: =IF($A24="",0,IFERROR(VLOOKUP($A24,ANNEE!$O$15:$P$27,2,FALSE),WEEKDAY($A24,2))) -> 0 | S24: =LEFT(O24,1) | T24: =T23+F24 -> 0
A25: DECLARATION des Heures Récupérées dans le mois : | F25: =SUM(F5:F24) -> 0 | G25: =SUM(G5:G24) -> 0 | H25: =SUM(H5:H24) -> 0 | I25: =SUM(I5:I24) -> 0 | J25: =SUM(J5:J24) -> 0 | K25: =SUM(K5:K24) -> 0 | L25: =SUM(L5:L24) -> 0 | M25: =SUM(M5:M24) -> 0 | N25: =SUM(K25:M25) -> 0 | T25: 1.0416667
A26: DECLARATION ASTREINTES | B26: Date début | C26: Date fin | D26: Type d'astreinte | F26: Repos compensateur (oui/non) | K26: Astreintes à payer (oui/non) | O26: Motif
G27: =IF($F27="oui",_xlfn.XLOOKUP($D27,ANNEE!$T$10:$T$51,ANNEE!$U$10:$U$51,0),0) -> 0 | L27: =IF($K27="oui",IF(_xlfn.XLOOKUP($D27,ANNEE!$T$22:$T$51,ANNEE!$S$22:$S$51,0)>0,1,0),0) -> 0 | Q27: =_xlfn.XLOOKUP($D27,ANNEE!$T$22:$T$51,ANNEE!$S$22:$S$51,0) -> 0 | S27: =LEFT(O27,1)
G28: =IF($F28="oui",_xlfn.XLOOKUP($D28,ANNEE!$T$10:$T$51,ANNEE!$U$10:$U$51,0),0) -> 0 | L28: =IF($K28="oui",IF(_xlfn.XLOOKUP($D28,ANNEE!$T$22:$T$51,ANNEE!$S$22:$S$51,0)>0,1,0),0) -> 0 | Q28: =_xlfn.XLOOKUP($D28,ANNEE!$T$22:$T$51,ANNEE!$S$22:$S$51,0) -> 0 | S28: =LEFT(O28,1)
G29: =IF($F29="oui",_xlfn.XLOOKUP($D29,ANNEE!$T$10:$T$51,ANNEE!$U$10:$U$51,0),0) -> 0 | L29: =IF($K29="oui",IF(_xlfn.XLOOKUP($D29,ANNEE!$T$22:$T$51,ANNEE!$S$22:$S$51,0)>0,1,0),0) -> 0 | Q29: =_xlfn.XLOOKUP($D29,ANNEE!$T$22:$T$51,ANNEE!$S$22:$S$51,0) -> 0 | S29: =LEFT(O29,1)
G30: =IF($F30="oui",_xlfn.XLOOKUP($D30,ANNEE!$T$10:$T$51,ANNEE!$U$10:$U$51,0),0) -> 0 | L30: =IF($K30="oui",IF(_xlfn.XLOOKUP($D30,ANNEE!$T$22:$T$51,ANNEE!$S$22:$S$51,0)>0,1,0),0) -> 0 | Q30: =_xlfn.XLOOKUP($D30,ANNEE!$T$22:$T$51,ANNEE!$S$22:$S$51,0) -> 0 | S30: =LEFT(O30,1)
G31: =IF($F31="oui",_xlfn.XLOOKUP($D31,ANNEE!$T$10:$T$51,ANNEE!$U$10:$U$51,0),0) -> 0 | L31: =IF($K31="oui",IF(_xlfn.XLOOKUP($D31,ANNEE!$T$22:$T$51,ANNEE!$S$22:$S$51,0)>0,1,0),0) -> 0 | Q31: =_xlfn.XLOOKUP($D31,ANNEE!$T$22:$T$51,ANNEE!$S$22:$S$51,0) -> 0 | S31: =LEFT(O31,1)
F32: =F$25*ANNEE!D$24++SUM(J27:J31) -> 0 | G32: =G$25*ANNEE!E$24 -> 0 | H32: =H$25*ANNEE!F$24 -> 0 | I32: =I$25*ANNEE!G$24 -> 0 | J32: =SUM(F32:I32)+$E$2-$E$25 -> 0
D33: A Reporter : | E33: =J32 -> 0
D35: Signature agent obligatoire | E35: Signature du Chef de Service | J35: Enregistrement DRH

Sheet MARS
A1: DECLARATION DES HEURES SUPPLEMENTAIRES | G1: =ANNEE!$A$12 &" "&ANNEE!$G$3 -> MARS 2026 | K1: =ANNEE!$F$5 -> AUBRY Clement
A2: Dates | B2: Horaires | D2: Report mois précédent : | E2: =FEVRIER!$E$33 -> 0 | F2: ="Répartition Heures à Récupérer" & CHAR(10) & "(heures normales de 7h à 22h)" -> Répartition Heures à Récupérer (heures normales de 7h à 22h) | K2: ="Répartition Heures à Payer" & CHAR(10) & "(heures normales de 7h à 22h)" -> Répartition Heures à Payer (heures normales de 7h à 22h)
B3: Début | C3: Fin | D3: Travail effectué | E3: ="Heures" & CHAR(10) & CHAR(10) & "Effectuées" -> Heures Effectuées | F3: ="14" & CHAR(10) & "premières" & CHAR(10) & "heures" -> 14 premières heures | G3: ="Au-delà" & CHAR(10) & "des 14" & CHAR(10) & "premières" & CHAR(10) & "heures" -> Au-delà des 14 premières heures | H3: ="Dimanche" & CHAR(10) & "et jours" & CHAR(10) & "fériés" -> Dimanche et jours fériés | I3: ="Heures" & CHAR(10) & "de nuit" & CHAR(10) & "22h à 7h" -> Heures de nuit 22h à 7h | J3: ="Total" & CHAR(10) &"A"& CHAR(10) & "Récup." -> Total A Récup. | K3: ="Heures" & CHAR(10) & "normales" -> Heures normales | L3: ="Dimanche" & CHAR(10) & "et jours" & CHAR(10) & "fériés" -> Dimanche et jours fériés | M3: ="Heures" & CHAR(10) & "de nuit" & CHAR(10) & "22h à 7h" -> Heures de nuit 22h à 7h | N3: ="Total" & CHAR(10) &"A"& CHAR(10) & "Payé" -> Total A Payé
O4: Motif | T4: 0.58333333
E5: =IF((C5-B5)<0,C5-B5+1,C5-B5) -> 0 | J5: =SUM(F5:I5) -> 0 | N5: =SUM(K5:M5) -> 0 | Q5: =IF($A5="",0,IFERROR(VLOOKUP($A5,ANNEE!$O$15:$P$27,2,FALSE),WEEKDAY($A5,2))) -> 0 | S5: =LEFT(O5,1) | T5: =F5 -> 0
E6: =IF((C6-B6)<0,C6-B6+1,C6-B6) -> 0 | J6: =SUM(F6:I6) -> 0 | N6: =SUM(K6:M6) -> 0 | Q6: =IF($A6="",0,IFERROR(VLOOKUP($A6,ANNEE!$O$15:$P$27,2,FALSE),WEEKDAY($A6,2))) -> 0 | S6: =LEFT(O6,1) | T6: =T5+F6 -> 0
E7: =IF((C7-B7)<0,C7-B7+1,C7-B7) -> 0 | J7: =SUM(F7:I7) -> 0 | N7: =SUM(K7:M7) -> 0 | Q7: =IF($A7="",0,IFERROR(VLOOKUP($A7,ANNEE!$O$15:$P$27,2,FALSE),WEEKDAY($A7,2))) -> 0 | S7: =LEFT(O7,1) | T7: =T6+F7 -> 0
E8: =IF((C8-B8)<0,C8-B8+1,C8-B8) -> 0 | J8: =SUM(F8:I8) -> 0 | N8: =SUM(K8:M8) -> 0 | Q8: =IF($A8="",0,IFERROR(VLOOKUP($A8,ANNEE!$O$15:$P$27,2,FALSE),WEEKDAY($A8,2))) -> 0 | S8: =LEFT(O8,1) | T8: =T7+F8 -> 0
E9: =IF((C9-B9)<0,C9-B9+1,C9-B9) -> 0 | J9: =SUM(F9:I9) -> 0 | N9: =SUM(K9:M9) -> 0 | Q9: =IF($A9="",0,IFERROR(VLOOKUP($A9,ANNEE!$O$15:$P$27,2,FALSE),WEEKDAY($A9,2))) -> 0 | S9: =LEFT(O9,1) | T9: =T8+F9 -> 0
E10: =IF((C10-B10)<0,C10-B10+1,C10-B10) -> 0 | J10: =SUM(F10:I10) -> 0 | N10: =SUM(K10:M10) -> 0 | Q10: =IF($A10="",0,IFERROR(VLOOKUP($A10,ANNEE!$O$15:$P$27,2,FALSE),WEEKDAY($A10,2))) -> 0 | S10: =LEFT(O10,1) | T10: =T9+F10 -> 0
E11: =IF((C11-B11)<0,C11-B11+1,C11-B11) -> 0 | J11: =SUM(F11:I11) -> 0 | N11: =SUM(K11:M11) -> 0 | Q11: =IF($A11="",0,IFERROR(VLOOKUP($A11,ANNEE!$O$15:$P$27,2,FALSE),WEEKDAY($A11,2))) -> 0 | S11: =LEFT(O11,1) | T11: =T10+F11 -> 0
E12: =IF((C12-B12)<0,C12-B12+1,C12-B12) -> 0 | J12: =SUM(F12:I12) -> 0 | N12: =SUM(K12:M12) -> 0 | Q12: =IF($A12="",0,IFERROR(VLOOKUP($A12,ANNEE!$O$15:$P$27,2,FALSE),WEEKDAY($A12,2))) -> 0 | S12: =LEFT(O12,1) | T12: =T11+F12 -> 0
E13: =IF((C13-B13)<0,C13-B13+1,C13-B13) -> 0 | J13: =SUM(F13:I13) -> 0 | N13: =SUM(K13:M13) -> 0 | Q13: =IF($A13="",0,IFERROR(VLOOKUP($A13,ANNEE!$O$15:$P$27,2,FALSE),WEEKDAY($A13,2))) -> 0 | S13: =LEFT(O13,1) | T13: =T12+F13 -> 0
E14: =IF((C14-B14)<0,C14-B14+1,C14-B14) -> 0 | J14: =SUM(F14:I14) -> 0 | N14: =SUM(K14:M14) -> 0 | Q14: =IF($A14="",0,IFERROR(VLOOKUP($A14,ANNEE!$O$15:$P$27,2,FALSE),WEEKDAY($A14,2))) -> 0 | S14: =LEFT(O14,1) | T14: =T13+F14 -> 0
E15: =IF((C15-B15)<0,C15-B15+1,C15-B15) -> 0 | J15: =SUM(F15:I15) -> 0 | N15: =SUM(K15:M15) -> 0 | Q15: =IF($A15="",0,IFERROR(VLOOKUP($A15,ANNEE!$O$15:$P$27,2,FALSE),WEEKDAY($A15,2))) -> 0 | S15: =LEFT(O15,1) | T15: =T14+F15 -> 0
E16: =IF((C16-B16)<0,C16-B16+1,C16-B16) -> 0 | J16: =SUM(F16:I16) -> 0 | N16: =SUM(K16:M16) -> 0 | Q16: =IF($A16="",0,IFERROR(VLOOKUP($A16,ANNEE!$O$15:$P$27,2,FALSE),WEEKDAY($A16,2))) -> 0 | S16: =LEFT(O16,1) | T16: =T15+F16 -> 0
E17: =IF((C17-B17)<0,C17-B17+1,C17-B17) -> 0 | J17: =SUM(F17:I17) -> 0 | N17: =SUM(K17:M17) -> 0 | Q17: =IF($A17="",0,IFERROR(VLOOKUP($A17,ANNEE!$O$15:$P$27,2,FALSE),WEEKDAY($A17,2))) -> 0 | S17: =LEFT(O17,1) | T17: =T16+F17 -> 0
... E24: =IF((C24-B24)<0,C24-B24+1,C24-B24) -> 0 | J24: =SUM(F24:I24) -> 0 | N24: =SUM(K24:M24) -> 0 | Q24: =IF($A24="",0,IFERROR(VLOOKUP($A24,ANNEE!$O$15:$P$27,2,FALSE),WEEKDAY($A24,2))) -> 0 | S24: =LEFT(O24,1) | T24: =T23+F24 -> 0
A25: DECLARATION des Heures Récupérées dans le mois : | F25: =SUM(F5:F24) -> 0 | G25: =SUM(G5:G24) -> 0 | H25: =SUM(H5:H24) -> 0 | I25: =SUM(I5:I24) -> 0 | J25: =SUM(J5:J24) -> 0 | K25: =SUM(K5:K24) -> 0 | L25: =SUM(L5:L24) -> 0 | M25: =SUM(M5:M24) -> 0 | N25: =SUM(K25:M25) -> 0 | T25: 1.0416667
A26: DECLARATION ASTREINTES | B26: Date début | C26: Date fin | D26: Type d'astreinte | F26: Repos compensateur (oui/non) | K26: Astreintes à payer (oui/non) | O26: Motif
G27: =IF($F27="oui",_xlfn.XLOOKUP($D27,ANNEE!$T$10:$T$51,ANNEE!$U$10:$U$51,0),0) -> 0 | L27: =IF($K27="oui",IF(_xlfn.XLOOKUP($D27,ANNEE!$T$22:$T$51,ANNEE!$S$22:$S$51,0)>0,1,0),0) -> 0 | Q27: =_xlfn.XLOOKUP($D27,ANNEE!$T$22:$T$51,ANNEE!$S$22:$S$51,0) -> 0 | S27: =LEFT(O27,1)
G28: =IF($F28="oui",_xlfn.XLOOKUP($D28,ANNEE!$T$10:$T$51,ANNEE!$U$10:$U$51,0),0) -> 0 | L28: =IF($K28="oui",IF(_xlfn.XLOOKUP($D28,ANNEE!$T$22:$T$51,ANNEE!$S$22:$S$51,0)>0,1,0),0) -> 0 | Q28: =_xlfn.XLOOKUP($D28,ANNEE!$T$22:$T$51,ANNEE!$S$22:$S$51,0) -> 0 | S28: =LEFT(O28,1)
G29: =IF($F29="oui",_xlfn.XLOOKUP($D29,ANNEE!$T$10:$T$51,ANNEE!$U$10:$U$51,0),0) -> 0 | L29: =IF($K29="oui",IF(_xlfn.XLOOKUP($D29,ANNEE!$T$22:$T$51,ANNEE!$S$22:$S$51,0)>0,1,0),0) -> 0 | Q29: =_xlfn.XLOOKUP($D29,ANNEE!$T$22:$T$51,ANNEE!$S$22:$S$51,0) -> 0 | S29: =LEFT(O29,1)
G30: =IF($F30="oui",_xlfn.XLOOKUP($D30,ANNEE!$T$10:$T$51,ANNEE!$U$10:$U$51,0),0) -> 0 | L30: =IF($K30="oui",IF(_xlfn.XLOOKUP($D30,ANNEE!$T$22:$T$51,ANNEE!$S$22:$S$51,0)>0,1,0),0) -> 0 | Q30: =_xlfn.XLOOKUP($D30,ANNEE!$T$22:$T$51,ANNEE!$S$22:$S$51,0) -> 0 | S30: =LEFT(O30,1)
G31: =IF($F31="oui",_xlfn.XLOOKUP($D31,ANNEE!$T$10:$T$51,ANNEE!$U$10:$U$51,0),0) -> 0 | L31: =IF($K31="oui",IF(_xlfn.XLOOKUP($D31,ANNEE!$T$22:$T$51,ANNEE!$S$22:$S$51,0)>0,1,0),0) -> 0 | Q31: =_xlfn.XLOOKUP($D31,ANNEE!$T$22:$T$51,ANNEE!$S$22:$S$51,0) -> 0 | S31: =LEFT(O31,1)
F32: =F$25*ANNEE!D$24++SUM(J27:J31) -> 0 | G32: =G$25*ANNEE!E$24 -> 0 | H32: =H$25*ANNEE!F$24 -> 0 | I32: =I$25*ANNEE!G$24 -> 0 | J32: =SUM(F32:I32)+$E$2-$E$25 -> 0
D33: A Reporter : | E33: =J32 -> 0
D35: Signature agent obligatoire | E35: Signature du Chef de Service | J35: Enregistrement DRH

Sheet AVRIL
A1: DECLARATION DES HEURES SUPPLEMENTAIRES | G1: =ANNEE!$A$13 &" "&ANNEE!$G$3 -> AVRIL 2026 | K1: =ANNEE!$F$5 -> AUBRY Clement
A2: Dates | B2: Horaires | D2: Report mois précédent : | E2: =MARS!$E$33 -> 0 | F2: ="Répartition Heures à Récupérer" & CHAR(10) & "(heures normales de 7h à 22h)" -> Répartition Heures à Récupérer (heures normales de 7h à 22h) | K2: ="Répartition Heures à Payer" & CHAR(10) & "(heures normales de 7h à 22h)" -> Répartition Heures à Payer (heures normales de 7h à 22h)
B3: Début | C3: Fin | D3: Travail effectué | E3: ="Heures" & CHAR(10) & CHAR(10) & "Effectuées" -> Heures Effectuées | F3: ="14" & CHAR(10) & "premières" & CHAR(10) & "heures" -> 14 premières heures | G3: ="Au-delà" & CHAR(10) & "des 14" & CHAR(10) & "premières" & CHAR(10) & "heures" -> Au-delà des 14 premières heures | H3: ="Dimanche" & CHAR(10) & "et jours" & CHAR(10) & "fériés" -> Dimanche et jours fériés | I3: ="Heures" & CHAR(10) & "de nuit" & CHAR(10) & "22h à 7h" -> Heures de nuit 22h à 7h | J3: ="Total" & CHAR(10) &"A"& CHAR(10) & "Récup." -> Total A Récup. | K3: ="Heures" & CHAR(10) & "normales" -> Heures normales | L3: ="Dimanche" & CHAR(10) & "et jours" & CHAR(10) & "fériés" -> Dimanche et jours fériés | M3: ="Heures" & CHAR(10) & "de nuit" & CHAR(10) & "22h à 7h" -> Heures de nuit 22h à 7h | N3: ="Total" & CHAR(10) &"A"& CHAR(10) & "Payé" -> Total A Payé
O4: Motif | T4: 0.58333333
E5: =IF((C5-B5)<0,C5-B5+1,C5-B5) -> 0 | J5: =SUM(F5:I5) -> 0 | N5: =SUM(K5:M5) -> 0 | Q5: =IF($A5="",0,IFERROR(VLOOKUP($A5,ANNEE!$O$15:$P$27,2,FALSE),WEEKDAY($A5,2))) -> 0 | S5: =LEFT(O5,1) | T5: =F5 -> 0
E6: =IF((C6-B6)<0,C6-B6+1,C6-B6) -> 0 | J6: =SUM(F6:I6) -> 0 | N6: =SUM(K6:M6) -> 0 | Q6: =IF($A6="",0,IFERROR(VLOOKUP($A6,ANNEE!$O$15:$P$27,2,FALSE),WEEKDAY($A6,2))) -> 0 | S6: =LEFT(O6,1) | T6: =T5+F6 -> 0
E7: =IF((C7-B7)<0,C7-B7+1,C7-B7) -> 0 | J7: =SUM(F7:I7) -> 0 | N7: =SUM(K7:M7) -> 0 | Q7: =IF($A7="",0,IFERROR(VLOOKUP($A7,ANNEE!$O$15:$P$27,2,FALSE),WEEKDAY($A7,2))) -> 0 | S7: =LEFT(O7,1) | T7: =T6+F7 -> 0
E8: =IF((C8-B8)<0,C8-B8+1,C8-B8) -> 0 | J8: =SUM(F8:I8) -> 0 | N8: =SUM(K8:M8) -> 0 | Q8: =IF($A8="",0,IFERROR(VLOOKUP($A8,ANNEE!$O$15:$P$27,2,FALSE),WEEKDAY($A8,2))) -> 0 | S8: =LEFT(O8,1) | T8: =T7+F8 -> 0
E9: =IF((C9-B9)<0,C9-B9+1,C9-B9) -> 0 | J9: =SUM(F9:I9) -> 0 | N9: =SUM(K9:M9) -> 0 | Q9: =IF($A9="",0,IFERROR(VLOOKUP($A9,ANNEE!$O$15:$P$27,2,FALSE),WEEKDAY($A9,2))) -> 0 | S9: =LEFT(O9,1) | T9: =T8+F9 -> 0
E10: =IF((C10-B10)<0,C10-B10+1,C10-B10) -> 0 | J10: =SUM(F10:I10) -> 0 | N10: =SUM(K10:M10) -> 0 | Q10: =IF($A10="",0,IFERROR(VLOOKUP($A10,ANNEE!$O$15:$P$27,2,FALSE),WEEKDAY($A10,2))) -> 0 | S10: =LEFT(O10,1) | T10: =T9+F10 -> 0
E11: =IF((C11-B11)<0,C11-B11+1,C11-B11) -> 0 | J11: =SUM(F11:I11) -> 0 | N11: =SUM(K11:M11) -> 0 | Q11: =IF($A11="",0,IFERROR(VLOOKUP($A11,ANNEE!$O$15:$P$27,2,FALSE),WEEKDAY($A11,2))) -> 0 | S11: =LEFT(O11,1) | T11: =T10+F11 -> 0
E12: =IF((C12-B12)<0,C12-B12+1,C12-B12) -> 0 | J12: =SUM(F12:I12) -> 0 | N12: =SUM(K12:M12) -> 0 | Q12: =IF($A12="",0,IFERROR(VLOOKUP($A12,ANNEE!$O$15:$P$27,2,FALSE),WEEKDAY($A12,2))) -> 0 | S12: =LEFT(O12,1) | T12: =T11+F12 -> 0
E13: =IF((C13-B13)<0,C13-B13+1,C13-B13) -> 0 | J13: =SUM(F13:I13) -> 0 | N13: =SUM(K13:M13) -> 0 | Q13: =IF($A13="",0,IFERROR(VLOOKUP($A13,ANNEE!$O$15:$P$27,2,FALSE),WEEKDAY($A13,2))) -> 0 | S13: =LEFT(O13,1) | T13: =T12+F13 -> 0
E14: =IF((C14-B14)<0,C14-B14+1,C14-B14) -> 0 | J14: =SUM(F14:I14) -> 0 | N14: =SUM(K14:M14) -> 0 | Q14: =IF($A14="",0,IFERROR(VLOOKUP($A14,ANNEE!$O$15:$P$27,2,FALSE),WEEKDAY($A14,2))) -> 0 | S14: =LEFT(O14,1) | T14: =T13+F14 -> 0
E15: =IF((C15-B15)<0,C15-B15+1,C15-B15) -> 0 | J15: =SUM(F15:I15) -> 0 | N15: =SUM(K15:M15) -> 0 | Q15: =IF($A15="",0,IFERROR(VLOOKUP($A15,ANNEE!$O$15:$P$27,2,FALSE),WEEKDAY($A15,2))) -> 0 | S15: =LEFT(O15,1) | T15: =T14+F15 -> 0
E16: =IF((C16-B16)<0,C16-B16+1,C16-B16) -> 0 | J16: =SUM(F16:I16) -> 0 | N16: =SUM(K16:M16) -> 0 | Q16: =IF($A16="",0,IFERROR(VLOOKUP($A16,ANNEE!$O$15:$P$27,2,FALSE),WEEKDAY($A16,2))) -> 0 | S16: =LEFT(O16,1) | T16: =T15+F16 -> 0
E17: =IF((C17-B17)<0,C17-B17+1,C17-B17) -> 0 | J17: =SUM(F17:I17) -> 0 | N17: =SUM(K17:M17) -> 0 | Q17: =IF($A17="",0,IFERROR(VLOOKUP($A17,ANNEE!$O$15:$P$27,2,FALSE),WEEKDAY($A17,2))) -> 0 | S17: =LEFT(O17,1) | T17: =T16+F17 -> 0
... E24: =IF((C24-B24)<0,C24-B24+1,C24-B24) -> 0 | J24: =SUM(F24:I24) -> 0 | N24: =SUM(K24:M24) -> 0 | Q24: =IF($A24="",0,IFERROR(VLOOKUP($A24,ANNEE!$O$15:$P$27,2,FALSE),WEEKDAY($A24,2))) -> 0 | S24: =LEFT(O24,1) | T24: =T23+F24 -> 0
A25: DECLARATION des Heures Récupérées dans le mois : | F25: =SUM(F5:F24) -> 0 | G25: =SUM(G5:G24) -> 0 | H25: =SUM(H5:H24) -> 0 | I25: =SUM(I5:I24) -> 0 | J25: =SUM(J5:J24) -> 0 | K25: =SUM(K5:K24) -> 0 | L25: =SUM(L5:L24) -> 0 | M25: =SUM(M5:M24) -> 0 | N25: =SUM(K25:M25) -> 0 | T25: 1.0416667
A26: DECLARATION ASTREINTES | B26: Date début | C26: Date fin | D26: Type d'astreinte | F26: Repos compensateur (oui/non) | K26: Astreintes à payer (oui/non) | O26: Motif
G27: =IF($F27="oui",_xlfn.XLOOKUP($D27,ANNEE!$T$10:$T$51,ANNEE!$U$10:$U$51,0),0) -> 0 | L27: =IF($K27="oui",IF(_xlfn.XLOOKUP($D27,ANNEE!$T$22:$T$51,ANNEE!$S$22:$S$51,0)>0,1,0),0) -> 0 | Q27: =_xlfn.XLOOKUP($D27,ANNEE!$T$22:$T$51,ANNEE!$S$22:$S$51,0) -> 0 | S27: =LEFT(O27,1)
G28: =IF($F28="oui",_xlfn.XLOOKUP($D28,ANNEE!$T$10:$T$51,ANNEE!$U$10:$U$51,0),0) -> 0 | L28: =IF($K28="oui",IF(_xlfn.XLOOKUP($D28,ANNEE!$T$22:$T$51,ANNEE!$S$22:$S$51,0)>0,1,0),0) -> 0 | Q28: =_xlfn.XLOOKUP($D28,ANNEE!$T$22:$T$51,ANNEE!$S$22:$S$51,0) -> 0 | S28: =LEFT(O28,1)
G29: =IF($F29="oui",_xlfn.XLOOKUP($D29,ANNEE!$T$10:$T$51,ANNEE!$U$10:$U$51,0),0) -> 0 | L29: =IF($K29="oui",IF(_xlfn.XLOOKUP($D29,ANNEE!$T$22:$T$51,ANNEE!$S$22:$S$51,0)>0,1,0),0) -> 0 | Q29: =_xlfn.XLOOKUP($D29,ANNEE!$T$22:$T$51,ANNEE!$S$22:$S$51,0) -> 0 | S29: =LEFT(O29,1)
G30: =IF($F30="oui",_xlfn.XLOOKUP($D30,ANNEE!$T$10:$T$51,ANNEE!$U$10:$U$51,0),0) -> 0 | L30: =IF($K30="oui",IF(_xlfn.XLOOKUP($D30,ANNEE!$T$22:$T$51,ANNEE!$S$22:$S$51,0)>0,1,0),0) -> 0 | Q30: =_xlfn.XLOOKUP($D30,ANNEE!$T$22:$T$51,ANNEE!$S$22:$S$51,0) -> 0 | S30: =LEFT(O30,1)
G31: =IF($F31="oui",_xlfn.XLOOKUP($D31,ANNEE!$T$10:$T$51,ANNEE!$U$10:$U$51,0),0) -> 0 | L31: =IF($K31="oui",IF(_xlfn.XLOOKUP($D31,ANNEE!$T$22:$T$51,ANNEE!$S$22:$S$51,0)>0,1,0),0) -> 0 | Q31: =_xlfn.XLOOKUP($D31,ANNEE!$T$22:$T$51,ANNEE!$S$22:$S$51,0) -> 0 | S31: =LEFT(O31,1)
F32: =F$25*ANNEE!D$24++SUM(J27:J31) -> 0 | G32: =G$25*ANNEE!E$24 -> 0 | H32: =H$25*ANNEE!F$24 -> 0 | I32: =I$25*ANNEE!G$24 -> 0 | J32: =SUM(F32:I32)+$E$2-$E$25 -> 0
D33: A Reporter : | E33: =J32 -> 0
D35: Signature agent obligatoire | E35: Signature du Chef de Service | J35: Enregistrement DRH

Sheet MAI
A1: DECLARATION DES HEURES SUPPLEMENTAIRES | G1: =ANNEE!$A$14 &" "&ANNEE!$G$3 -> MAI 2026 | K1: =ANNEE!$F$5 -> AUBRY Clement
A2: Dates | B2: Horaires | D2: Report mois précédent : | E2: =AVRIL!$E$33 -> 0 | F2: ="Répartition Heures à Récupérer" & CHAR(10) & "(heures normales de 7h à 22h)" -> Répartition Heures à Récupérer (heures normales de 7h à 22h) | K2: ="Répartition Heures à Payer" & CHAR(10) & "(heures normales de 7h à 22h)" -> Répartition Heures à Payer (heures normales de 7h à 22h)
B3: Début | C3: Fin | D3: Travail effectué | E3: ="Heures" & CHAR(10) & CHAR(10) & "Effectuées" -> Heures Effectuées | F3: ="14" & CHAR(10) & "premières" & CHAR(10) & "heures" -> 14 premières heures | G3: ="Au-delà" & CHAR(10) & "des 14" & CHAR(10) & "premières" & CHAR(10) & "heures" -> Au-delà des 14 premières heures | H3: ="Dimanche" & CHAR(10) & "et jours" & CHAR(10) & "fériés" -> Dimanche et jours fériés | I3: ="Heures" & CHAR(10) & "de nuit" & CHAR(10) & "22h à 7h" -> Heures de nuit 22h à 7h | J3: ="Total" & CHAR(10) &"A"& CHAR(10) & "Récup." -> Total A Récup. | K3: ="Heures" & CHAR(10) & "normales" -> Heures normales | L3: ="Dimanche" & CHAR(10) & "et jours" & CHAR(10) & "fériés" -> Dimanche et jours fériés | M3: ="Heures" & CHAR(10) & "de nuit" & CHAR(10) & "22h à 7h" -> Heures de nuit 22h à 7h | N3: ="Total" & CHAR(10) &"A"& CHAR(10) & "Payé" -> Total A Payé
O4: Motif | T4: 0.58333333
E5: =IF((C5-B5)<0,C5-B5+1,C5-B5) -> 0 | J5: =SUM(F5:I5) -> 0 | N5: =SUM(K5:M5) -> 0 | Q5: =IF($A5="",0,IFERROR(VLOOKUP($A5,ANNEE!$O$15:$P$27,2,FALSE),WEEKDAY($A5,2))) -> 0 | S5: =LEFT(O5,1) | T5: =F5 -> 0
E6: =IF((C6-B6)<0,C6-B6+1,C6-B6) -> 0 | J6: =SUM(F6:I6) -> 0 | N6: =SUM(K6:M6) -> 0 | Q6: =IF($A6="",0,IFERROR(VLOOKUP($A6,ANNEE!$O$15:$P$27,2,FALSE),WEEKDAY($A6,2))) -> 0 | S6: =LEFT(O6,1) | T6: =T5+F6 -> 0
E7: =IF((C7-B7)<0,C7-B7+1,C7-B7) -> 0 | J7: =SUM(F7:I7) -> 0 | N7: =SUM(K7:M7) -> 0 | Q7: =IF($A7="",0,IFERROR(VLOOKUP($A7,ANNEE!$O$15:$P$27,2,FALSE),WEEKDAY($A7,2))) -> 0 | S7: =LEFT(O7,1) | T7: =T6+F7 -> 0
E8: =IF((C8-B8)<0,C8-B8+1,C8-B8) -> 0 | J8: =SUM(F8:I8) -> 0 | N8: =SUM(K8:M8) -> 0 | Q8: =IF($A8="",0,IFERROR(VLOOKUP($A8,ANNEE!$O$15:$P$27,2,FALSE),WEEKDAY($A8,2))) -> 0 | S8: =LEFT(O8,1) | T8: =T7+F8 -> 0
E9: =IF((C9-B9)<0,C9-B9+1,C9-B9) -> 0 | J9: =SUM(F9:I9) -> 0 | N9: =SUM(K9:M9) -> 0 | Q9: =IF($A9="",0,IFERROR(VLOOKUP($A9,ANNEE!$O$15:$P$27,2,FALSE),WEEKDAY($A9,2))) -> 0 | S9: =LEFT(O9,1) | T9: =T8+F9 -> 0
E10: =IF((C10-B10)<0,C10-B10+1,C10-B10) -> 0 | J10: =SUM(F10:I10) -> 0 | N10: =SUM(K10:M10) -> 0 | Q10: =IF($A10="",0,IFERROR(VLOOKUP($A10,ANNEE!$O$15:$P$27,2,FALSE),WEEKDAY($A10,2))) -> 0 | S10: =LEFT(O10,1) | T10: =T9+F10 -> 0
E11: =IF((C11-B11)<0,C11-B11+1,C11-B11) -> 0 | J11: =SUM(F11:I11) -> 0 | N11: =SUM(K11:M11) -> 0 | Q11: =IF($A11="",0,IFERROR(VLOOKUP($A11,ANNEE!$O$15:$P$27,2,FALSE),WEEKDAY($A11,2))) -> 0 | S11: =LEFT(O11,1) | T11: =T10+F11 -> 0
E12: =IF((C12-B12)<0,C12-B12+1,C12-B12) -> 0 | J12: =SUM(F12:I12) -> 0 | N12: =SUM(K12:M12) -> 0 | Q12: =IF($A12="",0,IFERROR(VLOOKUP($A12,ANNEE!$O$15:$P$27,2,FALSE),WEEKDAY($A12,2))) -> 0 | S12: =LEFT(O12,1) | T12: =T11+F12 -> 0
E13: =IF((C13-B13)<0,C13-B13+1,C13-B13) -> 0 | J13: =SUM(F13:I13) -> 0 | N13: =SUM(K13:M13) -> 0 | Q13: =IF($A13="",0,IFERROR(VLOOKUP($A13,ANNEE!$O$15:$P$27,2,FALSE),WEEKDAY($A13,2))) -> 0 | S13: =LEFT(O13,1) | T13: =T12+F13 -> 0
E14: =IF((C14-B14)<0,C14-B14+1,C14-B14) -> 0 | J14: =SUM(F14:I14) -> 0 | N14: =SUM(K14:M14) -> 0 | Q14: =IF($A14="",0,IFERROR(VLOOKUP($A14,ANNEE!$O$15:$P$27,2,FALSE),WEEKDAY($A14,2))) -> 0 | S14: =LEFT(O14,1) | T14: =T13+F14 -> 0
E15: =IF((C15-B15)<0,C15-B15+1,C15-B15) -> 0 | J15: =SUM(F15:I15) -> 0 | N15: =SUM(K15:M15) -> 0 | Q15: =IF($A15="",0,IFERROR(VLOOKUP($A15,ANNEE!$O$15:$P$27,2,FALSE),WEEKDAY($A15,2))) -> 0 | S15: =LEFT(O15,1) | T15: =T14+F15 -> 0
E16: =IF((C16-B16)<0,C16-B16+1,C16-B16) -> 0 | J16: =SUM(F16:I16) -> 0 | N16: =SUM(K16:M16) -> 0 | Q16: =IF($A16="",0,IFERROR(VLOOKUP($A16,ANNEE!$O$15:$P$27,2,FALSE),WEEKDAY($A16,2))) -> 0 | S16: =LEFT(O16,1) | T16: =T15+F16 -> 0
E17: =IF((C17-B17)<0,C17-B17+1,C17-B17) -> 0 | J17: =SUM(F17:I17) -> 0 | N17: =SUM(K17:M17) -> 0 | Q17: =IF($A17="",0,IFERROR(VLOOKUP($A17,ANNEE!$O$15:$P$27,2,FALSE),WEEKDAY($A17,2))) -> 0 | S17: =LEFT(O17,1) | T17: =T16+F17 -> 0
... E24: =IF((C24-B24)<0,C24-B24+1,C24-B24) -> 0 | J24: =SUM(F24:I24) -> 0 | N24: =SUM(K24:M24) -> 0 | Q24: =IF($A24="",0,IFERROR(VLOOKUP($A24,ANNEE!$O$15:$P$27,2,FALSE),WEEKDAY($A24,2))) -> 0 | S24: =LEFT(O24,1) | T24: =T23+F24 -> 0
A25: DECLARATION des Heures Récupérées dans le mois : | F25: =SUM(F5:F24) -> 0 | G25: =SUM(G5:G24) -> 0 | H25: =SUM(H5:H24) -> 0 | I25: =SUM(I5:I24) -> 0 | J25: =SUM(J5:J24) -> 0 | K25: =SUM(K5:K24) -> 0 | L25: =SUM(L5:L24) -> 0 | M25: =SUM(M5:M24) -> 0 | N25: =SUM(K25:M25) -> 0 | T25: 1.0416667
A26: DECLARATION ASTREINTES | B26: Date début | C26: Date fin | D26: Type d'astreinte | F26: Repos compensateur (oui/non) | K26: Astreintes à payer (oui/non) | O26: Motif
G27: =IF($F27="oui",_xlfn.XLOOKUP($D27,ANNEE!$T$10:$T$51,ANNEE!$U$10:$U$51,0),0) -> 0 | L27: =IF($K27="oui",IF(_xlfn.XLOOKUP($D27,ANNEE!$T$22:$T$51,ANNEE!$S$22:$S$51,0)>0,1,0),0) -> 0 | Q27: =_xlfn.XLOOKUP($D27,ANNEE!$T$22:$T$51,ANNEE!$S$22:$S$51,0) -> 0 | S27: =LEFT(O27,1)
G28: =IF($F28="oui",_xlfn.XLOOKUP($D28,ANNEE!$T$10:$T$51,ANNEE!$U$10:$U$51,0),0) -> 0 | L28: =IF($K28="oui",IF(_xlfn.XLOOKUP($D28,ANNEE!$T$22:$T$51,ANNEE!$S$22:$S$51,0)>0,1,0),0) -> 0 | Q28: =_xlfn.XLOOKUP($D28,ANNEE!$T$22:$T$51,ANNEE!$S$22:$S$51,0) -> 0 | S28: =LEFT(O28,1)
G29: =IF($F29="oui",_xlfn.XLOOKUP($D29,ANNEE!$T$10:$T$51,ANNEE!$U$10:$U$51,0),0) -> 0 | L29: =IF($K29="oui",IF(_xlfn.XLOOKUP($D29,ANNEE!$T$22:$T$51,ANNEE!$S$22:$S$51,0)>0,1,0),0) -> 0 | Q29: =_xlfn.XLOOKUP($D29,ANNEE!$T$22:$T$51,ANNEE!$S$22:$S$51,0) -> 0 | S29: =LEFT(O29,1)
G30: =IF($F30="oui",_xlfn.XLOOKUP($D30,ANNEE!$T$10:$T$51,ANNEE!$U$10:$U$51,0),0) -> 0 | L30: =IF($K30="oui",IF(_xlfn.XLOOKUP($D30,ANNEE!$T$22:$T$51,ANNEE!$S$22:$S$51,0)>0,1,0),0) -> 0 | Q30: =_xlfn.XLOOKUP($D30,ANNEE!$T$22:$T$51,ANNEE!$S$22:$S$51,0) -> 0 | S30: =LEFT(O30,1)
G31: =IF($F31="oui",_xlfn.XLOOKUP($D31,ANNEE!$T$10:$T$51,ANNEE!$U$10:$U$51,0),0) -> 0 | L31: =IF($K31="oui",IF(_xlfn.XLOOKUP($D31,ANNEE!$T$22:$T$51,ANNEE!$S$22:$S$51,0)>0,1,0),0) -> 0 | Q31: =_xlfn.XLOOKUP($D31,ANNEE!$T$22:$T$51,ANNEE!$S$22:$S$51,0) -> 0 | S31: =LEFT(O31,1)
F32: =F$25*ANNEE!D$24++SUM(J27:J31) -> 0 | G32: =G$25*ANNEE!E$24 -> 0 | H32: =H$25*ANNEE!F$24 -> 0 | I32: =I$25*ANNEE!G$24 -> 0 | J32: =SUM(F32:I32)+$E$2-$E$25 -> 0
D33: A Reporter : | E33: =J32 -> 0
D35: Signature agent obligatoire | E35: Signature du Chef de Service | J35: Enregistrement DRH

Sheet JUIN
A1: DECLARATION DES HEURES SUPPLEMENTAIRES | G1: =ANNEE!$A$15 &" "&ANNEE!$G$3 -> JUIN 2026 | K1: =ANNEE!$F$5 -> AUBRY Clement
A2: Dates | B2: Horaires | D2: Report mois précédent : | E2: =MAI!$E$33 -> 0 | F2: ="Répartition Heures à Récupérer" & CHAR(10) & "(heures normales de 7h à 22h)" -> Répartition Heures à Récupérer (heures normales de 7h à 22h) | K2: ="Répartition Heures à Payer" & CHAR(10) & "(heures normales de 7h à 22h)" -> Répartition Heures à Payer (heures normales de 7h à 22h)
B3: Début | C3: Fin | D3: Travail effectué | E3: ="Heures" & CHAR(10) & CHAR(10) & "Effectuées" -> Heures Effectuées | F3: ="14" & CHAR(10) & "premières" & CHAR(10) & "heures" -> 14 premières heures | G3: ="Au-delà" & CHAR(10) & "des 14" & CHAR(10) & "premières" & CHAR(10) & "heures" -> Au-delà des 14 premières heures | H3: ="Dimanche" & CHAR(10) & "et jours" & CHAR(10) & "fériés" -> Dimanche et jours fériés | I3: ="Heures" & CHAR(10) & "de nuit" & CHAR(10) & "22h à 7h" -> Heures de nuit 22h à 7h | J3: ="Total" & CHAR(10) &"A"& CHAR(10) & "Récup." -> Total A Récup. | K3: ="Heures" & CHAR(10) & "normales" -> Heures normales | L3: ="Dimanche" & CHAR(10) & "et jours" & CHAR(10) & "fériés" -> Dimanche et jours fériés | M3: ="Heures" & CHAR(10) & "de nuit" & CHAR(10) & "22h à 7h" -> Heures de nuit 22h à 7h | N3: ="Total" & CHAR(10) &"A"& CHAR(10) & "Payé" -> Total A Payé
O4: Motif | T4: 0.58333333
E5: =IF((C5-B5)<0,C5-B5+1,C5-B5) -> 0 | J5: =SUM(F5:I5) -> 0 | N5: =SUM(K5:M5) -> 0 | Q5: =IF($A5="",0,IFERROR(VLOOKUP($A5,ANNEE!$O$15:$P$27,2,FALSE),WEEKDAY($A5,2))) -> 0 | S5: =LEFT(O5,1) | T5: =F5 -> 0
E6: =IF((C6-B6)<0,C6-B6+1,C6-B6) -> 0 | J6: =SUM(F6:I6) -> 0 | N6: =SUM(K6:M6) -> 0 | Q6: =IF($A6="",0,IFERROR(VLOOKUP($A6,ANNEE!$O$15:$P$27,2,FALSE),WEEKDAY($A6,2))) -> 0 | S6: =LEFT(O6,1) | T6: =T5+F6 -> 0
E7: =IF((C7-B7)<0,C7-B7+1,C7-B7) -> 0 | J7: =SUM(F7:I7) -> 0 | N7: =SUM(K7:M7) -> 0 | Q7: =IF($A7="",0,IFERROR(VLOOKUP($A7,ANNEE!$O$15:$P$27,2,FALSE),WEEKDAY($A7,2))) -> 0 | S7: =LEFT(O7,1) | T7: =T6+F7 -> 0
E8: =IF((C8-B8)<0,C8-B8+1,C8-B8) -> 0 | J8: =SUM(F8:I8) -> 0 | N8: =SUM(K8:M8) -> 0 | Q8: =IF($A8="",0,IFERROR(VLOOKUP($A8,ANNEE!$O$15:$P$27,2,FALSE),WEEKDAY($A8,2))) -> 0 | S8: =LEFT(O8,1) | T8: =T7+F8 -> 0
E9: =IF((C9-B9)<0,C9-B9+1,C9-B9) -> 0 | J9: =SUM(F9:I9) -> 0 | N9: =SUM(K9:M9) -> 0 | Q9: =IF($A9="",0,IFERROR(VLOOKUP($A9,ANNEE!$O$15:$P$27,2,FALSE),WEEKDAY($A9,2))) -> 0 | S9: =LEFT(O9,1) | T9: =T8+F9 -> 0
E10: =IF((C10-B10)<0,C10-B10+1,C10-B10) -> 0 | J10: =SUM(F10:I10) -> 0 | N10: =SUM(K10:M10) -> 0 | Q10: =IF($A10="",0,IFERROR(VLOOKUP($A10,ANNEE!$O$15:$P$27,2,FALSE),WEEKDAY($A10,2))) -> 0 | S10: =LEFT(O10,1) | T10: =T9+F10 -> 0
E11: =IF((C11-B11)<0,C11-B11+1,C11-B11) -> 0 | J11: =SUM(F11:I11) -> 0 | N11: =SUM(K11:M11) -> 0 | Q11: =IF($A11="",0,IFERROR(VLOOKUP($A11,ANNEE!$O$15:$P$27,2,FALSE),WEEKDAY($A11,2))) -> 0 | S11: =LEFT(O11,1) | T11: =T10+F11 -> 0
E12: =IF((C12-B12)<0,C12-B12+1,C12-B12) -> 0 | J12: =SUM(F12:I12) -> 0 | N12: =SUM(K12:M12) -> 0 | Q12: =IF($A12="",0,IFERROR(VLOOKUP($A12,ANNEE!$O$15:$P$27,2,FALSE),WEEKDAY($A12,2))) -> 0 | S12: =LEFT(O12,1) | T12: =T11+F12 -> 0
E13: =IF((C13-B13)<0,C13-B13+1,C13-B13) -> 0 | J13: =SUM(F13:I13) -> 0 | N13: =SUM(K13:M13) -> 0 | Q13: =IF($A13="",0,IFERROR(VLOOKUP($A13,ANNEE!$O$15:$P$27,2,FALSE),WEEKDAY($A13,2))) -> 0 | S13: =LEFT(O13,1) | T13: =T12+F13 -> 0
E14: =IF((C14-B14)<0,C14-B14+1,C14-B14) -> 0 | J14: =SUM(F14:I14) -> 0 | N14: =SUM(K14:M14) -> 0 | Q14: =IF($A14="",0,IFERROR(VLOOKUP($A14,ANNEE!$O$15:$P$27,2,FALSE),WEEKDAY($A14,2))) -> 0 | S14: =LEFT(O14,1) | T14: =T13+F14 -> 0
E15: =IF((C15-B15)<0,C15-B15+1,C15-B15) -> 0 | J15: =SUM(F15:I15) -> 0 | N15: =SUM(K15:M15) -> 0 | Q15: =IF($A15="",0,IFERROR(VLOOKUP($A15,ANNEE!$O$15:$P$27,2,FALSE),WEEKDAY($A15,2))) -> 0 | S15: =LEFT(O15,1) | T15: =T14+F15 -> 0
E16: =IF((C16-B16)<0,C16-B16+1,C16-B16) -> 0 | J16: =SUM(F16:I16) -> 0 | N16: =SUM(K16:M16) -> 0 | Q16: =IF($A16="",0,IFERROR(VLOOKUP($A16,ANNEE!$O$15:$P$27,2,FALSE),WEEKDAY($A16,2))) -> 0 | S16: =LEFT(O16,1) | T16: =T15+F16 -> 0
E17: =IF((C17-B17)<0,C17-B17+1,C17-B17) -> 0 | J17: =SUM(F17:I17) -> 0 | N17: =SUM(K17:M17) -> 0 | Q17: =IF($A17="",0,IFERROR(VLOOKUP($A17,ANNEE!$O$15:$P$27,2,FALSE),WEEKDAY($A17,2))) -> 0 | S17: =LEFT(O17,1) | T17: =T16+F17 -> 0
... E24: =IF((C24-B24)<0,C24-B24+1,C24-B24) -> 0 | J24: =SUM(F24:I24) -> 0 | N24: =SUM(K24:M24) -> 0 | Q24: =IF($A24="",0,IFERROR(VLOOKUP($A24,ANNEE!$O$15:$P$27,2,FALSE),WEEKDAY($A24,2))) -> 0 | S24: =LEFT(O24,1) | T24: =T23+F24 -> 0
A25: DECLARATION des Heures Récupérées dans le mois : | F25: =SUM(F5:F24) -> 0 | G25: =SUM(G5:G24) -> 0 | H25: =SUM(H5:H24) -> 0 | I25: =SUM(I5:I24) -> 0 | J25: =SUM(J5:J24) -> 0 | K25: =SUM(K5:K24) -> 0 | L25: =SUM(L5:L24) -> 0 | M25: =SUM(M5:M24) -> 0 | N25: =SUM(K25:M25) -> 0 | T25: 1.0416667
A26: DECLARATION ASTREINTES | B26: Date début | C26: Date fin | D26: Type d'astreinte | F26: Repos compensateur (oui/non) | K26: Astreintes à payer (oui/non) | O26: Motif
G27: =IF($F27="oui",_xlfn.XLOOKUP($D27,ANNEE!$T$10:$T$51,ANNEE!$U$10:$U$51,0),0) -> 0 | L27: =IF($K27="oui",IF(_xlfn.XLOOKUP($D27,ANNEE!$T$22:$T$51,ANNEE!$S$22:$S$51,0)>0,1,0),0) -> 0 | Q27: =_xlfn.XLOOKUP($D27,ANNEE!$T$22:$T$51,ANNEE!$S$22:$S$51,0) -> 0 | S27: =LEFT(O27,1)
G28: =IF($F28="oui",_xlfn.XLOOKUP($D28,ANNEE!$T$10:$T$51,ANNEE!$U$10:$U$51,0),0) -> 0 | L28: =IF($K28="oui",IF(_xlfn.XLOOKUP($D28,ANNEE!$T$22:$T$51,ANNEE!$S$22:$S$51,0)>0,1,0),0) -> 0 | Q28: =_xlfn.XLOOKUP($D28,ANNEE!$T$22:$T$51,ANNEE!$S$22:$S$51,0) -> 0 | S28: =LEFT(O28,1)
G29: =IF($F29="oui",_xlfn.XLOOKUP($D29,ANNEE!$T$10:$T$51,ANNEE!$U$10:$U$51,0),0) -> 0 | L29: =IF($K29="oui",IF(_xlfn.XLOOKUP($D29,ANNEE!$T$22:$T$51,ANNEE!$S$22:$S$51,0)>0,1,0),0) -> 0 | Q29: =_xlfn.XLOOKUP($D29,ANNEE!$T$22:$T$51,ANNEE!$S$22:$S$51,0) -> 0 | S29: =LEFT(O29,1)
G30: =IF($F30="oui",_xlfn.XLOOKUP($D30,ANNEE!$T$10:$T$51,ANNEE!$U$10:$U$51,0),0) -> 0 | L30: =IF($K30="oui",IF(_xlfn.XLOOKUP($D30,ANNEE!$T$22:$T$51,ANNEE!$S$22:$S$51,0)>0,1,0),0) -> 0 | Q30: =_xlfn.XLOOKUP($D30,ANNEE!$T$22:$T$51,ANNEE!$S$22:$S$51,0) -> 0 | S30: =LEFT(O30,1)
G31: =IF($F31="oui",_xlfn.XLOOKUP($D31,ANNEE!$T$10:$T$51,ANNEE!$U$10:$U$51,0),0) -> 0 | L31: =IF($K31="oui",IF(_xlfn.XLOOKUP($D31,ANNEE!$T$22:$T$51,ANNEE!$S$22:$S$51,0)>0,1,0),0) -> 0 | Q31: =_xlfn.XLOOKUP($D31,ANNEE!$T$22:$T$51,ANNEE!$S$22:$S$51,0) -> 0 | S31: =LEFT(O31,1)
F32: =F$25*ANNEE!D$24++SUM(J27:J31) -> 0 | G32: =G$25*ANNEE!E$24 -> 0 | H32: =H$25*ANNEE!F$24 -> 0 | I32: =I$25*ANNEE!G$24 -> 0 | J32: =SUM(F32:I32)+$E$2-$E$25 -> 0
D33: A Reporter : | E33: =J32 -> 0
D35: Signature agent obligatoire | E35: Signature du Chef de Service | J35: Enregistrement DRH

Sheet JUILLET
A1: DECLARATION DES HEURES SUPPLEMENTAIRES | G1: =ANNEE!$A$16 &" "&ANNEE!$G$3 -> JUILLET 2026 | K1: =ANNEE!$F$5 -> AUBRY Clement
A2: Dates | B2: Horaires | D2: Report mois précédent : | E2: =JUIN!$E$33 -> 0 | F2: ="Répartition Heures à Récupérer" & CHAR(10) & "(heures normales de 7h à 22h)" -> Répartition Heures à Récupérer (heures normales de 7h à 22h) | K2: ="Répartition Heures à Payer" & CHAR(10) & "(heures normales de 7h à 22h)" -> Répartition Heures à Payer (heures normales de 7h à 22h)
B3: Début | C3: Fin | D3: Travail effectué | E3: ="Heures" & CHAR(10) & CHAR(10) & "Effectuées" -> Heures Effectuées | F3: ="14" & CHAR(10) & "premières" & CHAR(10) & "heures" -> 14 premières heures | G3: ="Au-delà" & CHAR(10) & "des 14" & CHAR(10) & "premières" & CHAR(10) & "heures" -> Au-delà des 14 premières heures | H3: ="Dimanche" & CHAR(10) & "et jours" & CHAR(10) & "fériés" -> Dimanche et jours fériés | I3: ="Heures" & CHAR(10) & "de nuit" & CHAR(10) & "22h à 7h" -> Heures de nuit 22h à 7h | J3: ="Total" & CHAR(10) &"A"& CHAR(10) & "Récup." -> Total A Récup. | K3: ="Heures" & CHAR(10) & "normales" -> Heures normales | L3: ="Dimanche" & CHAR(10) & "et jours" & CHAR(10) & "fériés" -> Dimanche et jours fériés | M3: ="Heures" & CHAR(10) & "de nuit" & CHAR(10) & "22h à 7h" -> Heures de nuit 22h à 7h | N3: ="Total" & CHAR(10) &"A"& CHAR(10) & "Payé" -> Total A Payé
O4: Motif | T4: 0.58333333
E5: =IF((C5-B5)<0,C5-B5+1,C5-B5) -> 0 | J5: =SUM(F5:I5) -> 0 | N5: =SUM(K5:M5) -> 0 | Q5: =IF($A5="",0,IFERROR(VLOOKUP($A5,ANNEE!$O$15:$P$27,2,FALSE),WEEKDAY($A5,2))) -> 0 | S5: =LEFT(O5,1) | T5: =F5 -> 0
E6: =IF((C6-B6)<0,C6-B6+1,C6-B6) -> 0 | J6: =SUM(F6:I6) -> 0 | N6: =SUM(K6:M6) -> 0 | Q6: =IF($A6="",0,IFERROR(VLOOKUP($A6,ANNEE!$O$15:$P$27,2,FALSE),WEEKDAY($A6,2))) -> 0 | S6: =LEFT(O6,1) | T6: =T5+F6 -> 0
E7: =IF((C7-B7)<0,C7-B7+1,C7-B7) -> 0 | J7: =SUM(F7:I7) -> 0 | N7: =SUM(K7:M7) -> 0 | Q7: =IF($A7="",0,IFERROR(VLOOKUP($A7,ANNEE!$O$15:$P$27,2,FALSE),WEEKDAY($A7,2))) -> 0 | S7: =LEFT(O7,1) | T7: =T6+F7 -> 0
E8: =IF((C8-B8)<0,C8-B8+1,C8-B8) -> 0 | J8: =SUM(F8:I8) -> 0 | N8: =SUM(K8:M8) -> 0 | Q8: =IF($A8="",0,IFERROR(VLOOKUP($A8,ANNEE!$O$15:$P$27,2,FALSE),WEEKDAY($A8,2))) -> 0 | S8: =LEFT(O8,1) | T8: =T7+F8 -> 0
E9: =IF((C9-B9)<0,C9-B9+1,C9-B9) -> 0 | J9: =SUM(F9:I9) -> 0 | N9: =SUM(K9:M9) -> 0 | Q9: =IF($A9="",0,IFERROR(VLOOKUP($A9,ANNEE!$O$15:$P$27,2,FALSE),WEEKDAY($A9,2))) -> 0 | S9: =LEFT(O9,1) | T9: =T8+F9 -> 0
E10: =IF((C10-B10)<0,C10-B10+1,C10-B10) -> 0 | J10: =SUM(F10:I10) -> 0 | N10: =SUM(K10:M10) -> 0 | Q10: =IF($A10="",0,IFERROR(VLOOKUP($A10,ANNEE!$O$15:$P$27,2,FALSE),WEEKDAY($A10,2))) -> 0 | S10: =LEFT(O10,1) | T10: =T9+F10 -> 0
E11: =IF((C11-B11)<0,C11-B11+1,C11-B11) -> 0 | J11: =SUM(F11:I11) -> 0 | N11: =SUM(K11:M11) -> 0 | Q11: =IF($A11="",0,IFERROR(VLOOKUP($A11,ANNEE!$O$15:$P$27,2,FALSE),WEEKDAY($A11,2))) -> 0 | S11: =LEFT(O11,1) | T11: =T10+F11 -> 0
E12: =IF((C12-B12)<0,C12-B12+1,C12-B12) -> 0 | J12: =SUM(F12:I12) -> 0 | N12: =SUM(K12:M12) -> 0 | Q12: =IF($A12="",0,IFERROR(VLOOKUP($A12,ANNEE!$O$15:$P$27,2,FALSE),WEEKDAY($A12,2))) -> 0 | S12: =LEFT(O12,1) | T12: =T11+F12 -> 0
E13: =IF((C13-B13)<0,C13-B13+1,C13-B13) -> 0 | J13: =SUM(F13:I13) -> 0 | N13: =SUM(K13:M13) -> 0 | Q13: =IF($A13="",0,IFERROR(VLOOKUP($A13,ANNEE!$O$15:$P$27,2,FALSE),WEEKDAY($A13,2))) -> 0 | S13: =LEFT(O13,1) | T13: =T12+F13 -> 0
E14: =IF((C14-B14)<0,C14-B14+1,C14-B14) -> 0 | J14: =SUM(F14:I14) -> 0 | N14: =SUM(K14:M14) -> 0 | Q14: =IF($A14="",0,IFERROR(VLOOKUP($A14,ANNEE!$O$15:$P$27,2,FALSE),WEEKDAY($A14,2))) -> 0 | S14: =LEFT(O14,1) | T14: =T13+F14 -> 0
E15: =IF((C15-B15)<0,C15-B15+1,C15-B15) -> 0 | J15: =SUM(F15:I15) -> 0 | N15: =SUM(K15:M15) -> 0 | Q15: =IF($A15="",0,IFERROR(VLOOKUP($A15,ANNEE!$O$15:$P$27,2,FALSE),WEEKDAY($A15,2))) -> 0 | S15: =LEFT(O15,1) | T15: =T14+F15 -> 0
E16: =IF((C16-B16)<0,C16-B16+1,C16-B16) -> 0 | J16: =SUM(F16:I16) -> 0 | N16: =SUM(K16:M16) -> 0 | Q16: =IF($A16="",0,IFERROR(VLOOKUP($A16,ANNEE!$O$15:$P$27,2,FALSE),WEEKDAY($A16,2))) -> 0 | S16: =LEFT(O16,1) | T16: =T15+F16 -> 0
E17: =IF((C17-B17)<0,C17-B17+1,C17-B17) -> 0 | J17: =SUM(F17:I17) -> 0 | N17: =SUM(K17:M17) -> 0 | Q17: =IF($A17="",0,IFERROR(VLOOKUP($A17,ANNEE!$O$15:$P$27,2,FALSE),WEEKDAY($A17,2))) -> 0 | S17: =LEFT(O17,1) | T17: =T16+F17 -> 0
... E24: =IF((C24-B24)<0,C24-B24+1,C24-B24) -> 0 | J24: =SUM(F24:I24) -> 0 | N24: =SUM(K24:M24) -> 0 | Q24: =IF($A24="",0,IFERROR(VLOOKUP($A24,ANNEE!$O$15:$P$27,2,FALSE),WEEKDAY($A24,2))) -> 0 | S24: =LEFT(O24,1) | T24: =T23+F24 -> 0
A25: DECLARATION des Heures Récupérées dans le mois : | F25: =SUM(F5:F24) -> 0 | G25: =SUM(G5:G24) -> 0 | H25: =SUM(H5:H24) -> 0 | I25: =SUM(I5:I24) -> 0 | J25: =SUM(J5:J24) -> 0 | K25: =SUM(K5:K24) -> 0 | L25: =SUM(L5:L24) -> 0 | M25: =SUM(M5:M24) -> 0 | N25: =SUM(K25:M25) -> 0 | T25: 1.0416667
A26: DECLARATION ASTREINTES | B26: Date début | C26: Date fin | D26: Type d'astreinte | F26: Repos compensateur (oui/non) | K26: Astreintes à payer (oui/non) | O26: Motif
G27: =IF($F27="oui",_xlfn.XLOOKUP($D27,ANNEE!$T$10:$T$51,ANNEE!$U$10:$U$51,0),0) -> 0 | L27: =IF($K27="oui",IF(_xlfn.XLOOKUP($D27,ANNEE!$T$22:$T$51,ANNEE!$S$22:$S$51,0)>0,1,0),0) -> 0 | Q27: =_xlfn.XLOOKUP($D27,ANNEE!$T$22:$T$51,ANNEE!$S$22:$S$51,0) -> 0 | S27: =LEFT(O27,1)
G28: =IF($F28="oui",_xlfn.XLOOKUP($D28,ANNEE!$T$10:$T$51,ANNEE!$U$10:$U$51,0),0) -> 0 | L28: =IF($K28="oui",IF(_xlfn.XLOOKUP($D28,ANNEE!$T$22:$T$51,ANNEE!$S$22:$S$51,0)>0,1,0),0) -> 0 | Q28: =_xlfn.XLOOKUP($D28,ANNEE!$T$22:$T$51,ANNEE!$S$22:$S$51,0) -> 0 | S28: =LEFT(O28,1)
G29: =IF($F29="oui",_xlfn.XLOOKUP($D29,ANNEE!$T$10:$T$51,ANNEE!$U$10:$U$51,0),0) -> 0 | L29: =IF($K29="oui",IF(_xlfn.XLOOKUP($D29,ANNEE!$T$22:$T$51,ANNEE!$S$22:$S$51,0)>0,1,0),0) -> 0 | Q29: =_xlfn.XLOOKUP($D29,ANNEE!$T$22:$T$51,ANNEE!$S$22:$S$51,0) -> 0 | S29: =LEFT(O29,1)
G30: =IF($F30="oui",_xlfn.XLOOKUP($D30,ANNEE!$T$10:$T$51,ANNEE!$U$10:$U$51,0),0) -> 0 | L30: =IF($K30="oui",IF(_xlfn.XLOOKUP($D30,ANNEE!$T$22:$T$51,ANNEE!$S$22:$S$51,0)>0,1,0),0) -> 0 | Q30: =_xlfn.XLOOKUP($D30,ANNEE!$T$22:$T$51,ANNEE!$S$22:$S$51,0) -> 0 | S30: =LEFT(O30,1)
G31: =IF($F31="oui",_xlfn.XLOOKUP($D31,ANNEE!$T$10:$T$51,ANNEE!$U$10:$U$51,0),0) -> 0 | L31: =IF($K31="oui",IF(_xlfn.XLOOKUP($D31,ANNEE!$T$22:$T$51,ANNEE!$S$22:$S$51,0)>0,1,0),0) -> 0 | Q31: =_xlfn.XLOOKUP($D31,ANNEE!$T$22:$T$51,ANNEE!$S$22:$S$51,0) -> 0 | S31: =LEFT(O31,1)
F32: =F$25*ANNEE!D$24++SUM(J27:J31) -> 0 | G32: =G$25*ANNEE!E$24 -> 0 | H32: =H$25*ANNEE!F$24 -> 0 | I32: =I$25*ANNEE!G$24 -> 0 | J32: =SUM(F32:I32)+$E$2-$E$25 -> 0
D33: A Reporter : | E33: =J32 -> 0
D35: Signature agent obligatoire | E35: Signature du Chef de Service | J35: Enregistrement DRH

Sheet AOUT
A1: DECLARATION DES HEURES SUPPLEMENTAIRES | G1: =ANNEE!$A$17 &" "&ANNEE!$G$3 -> AOUT 2026 | K1: =ANNEE!$F$5 -> AUBRY Clement
A2: Dates | B2: Horaires | D2: Report mois précédent : | E2: =JUILLET!$E$33 -> 0 | F2: ="Répartition Heures à Récupérer" & CHAR(10) & "(heures normales de 7h à 22h)" -> Répartition Heures à Récupérer (heures normales de 7h à 22h) | K2: ="Répartition Heures à Payer" & CHAR(10) & "(heures normales de 7h à 22h)" -> Répartition Heures à Payer (heures normales de 7h à 22h)
B3: Début | C3: Fin | D3: Travail effectué | E3: ="Heures" & CHAR(10) & CHAR(10) & "Effectuées" -> Heures Effectuées | F3: ="14" & CHAR(10) & "premières" & CHAR(10) & "heures" -> 14 premières heures | G3: ="Au-delà" & CHAR(10) & "des 14" & CHAR(10) & "premières" & CHAR(10) & "heures" -> Au-delà des 14 premières heures | H3: ="Dimanche" & CHAR(10) & "et jours" & CHAR(10) & "fériés" -> Dimanche et jours fériés | I3: ="Heures" & CHAR(10) & "de nuit" & CHAR(10) & "22h à 7h" -> Heures de nuit 22h à 7h | J3: ="Total" & CHAR(10) &"A"& CHAR(10) & "Récup." -> Total A Récup. | K3: ="Heures" & CHAR(10) & "normales" -> Heures normales | L3: ="Dimanche" & CHAR(10) & "et jours" & CHAR(10) & "fériés" -> Dimanche et jours fériés | M3: ="Heures" & CHAR(10) & "de nuit" & CHAR(10) & "22h à 7h" -> Heures de nuit 22h à 7h | N3: ="Total" & CHAR(10) &"A"& CHAR(10) & "Payé" -> Total A Payé
O4: Motif | T4: 0.58333333
E5: =IF((C5-B5)<0,C5-B5+1,C5-B5) -> 0 | J5: =SUM(F5:I5) -> 0 | N5: =SUM(K5:M5) -> 0 | Q5: =IF($A5="",0,IFERROR(VLOOKUP($A5,ANNEE!$O$15:$P$27,2,FALSE),WEEKDAY($A5,2))) -> 0 | S5: =LEFT(O5,1) | T5: =F5 -> 0
E6: =IF((C6-B6)<0,C6-B6+1,C6-B6) -> 0 | J6: =SUM(F6:I6) -> 0 | N6: =SUM(K6:M6) -> 0 | Q6: =IF($A6="",0,IFERROR(VLOOKUP($A6,ANNEE!$O$15:$P$27,2,FALSE),WEEKDAY($A6,2))) -> 0 | S6: =LEFT(O6,1) | T6: =T5+F6 -> 0
E7: =IF((C7-B7)<0,C7-B7+1,C7-B7) -> 0 | J7: =SUM(F7:I7) -> 0 | N7: =SUM(K7:M7) -> 0 | Q7: =IF($A7="",0,IFERROR(VLOOKUP($A7,ANNEE!$O$15:$P$27,2,FALSE),WEEKDAY($A7,2))) -> 0 | S7: =LEFT(O7,1) | T7: =T6+F7 -> 0
E8: =IF((C8-B8)<0,C8-B8+1,C8-B8) -> 0 | J8: =SUM(F8:I8) -> 0 | N8: =SUM(K8:M8) -> 0 | Q8: =IF($A8="",0,IFERROR(VLOOKUP($A8,ANNEE!$O$15:$P$27,2,FALSE),WEEKDAY($A8,2))) -> 0 | S8: =LEFT(O8,1) | T8: =T7+F8 -> 0
E9: =IF((C9-B9)<0,C9-B9+1,C9-B9) -> 0 | J9: =SUM(F9:I9) -> 0 | N9: =SUM(K9:M9) -> 0 | Q9: =IF($A9="",0,IFERROR(VLOOKUP($A9,ANNEE!$O$15:$P$27,2,FALSE),WEEKDAY($A9,2))) -> 0 | S9: =LEFT(O9,1) | T9: =T8+F9 -> 0
E10: =IF((C10-B10)<0,C10-B10+1,C10-B10) -> 0 | J10: =SUM(F10:I10) -> 0 | N10: =SUM(K10:M10) -> 0 | Q10: =IF($A10="",0,IFERROR(VLOOKUP($A10,ANNEE!$O$15:$P$27,2,FALSE),WEEKDAY($A10,2))) -> 0 | S10: =LEFT(O10,1) | T10: =T9+F10 -> 0
E11: =IF((C11-B11)<0,C11-B11+1,C11-B11) -> 0 | J11: =SUM(F11:I11) -> 0 | N11: =SUM(K11:M11) -> 0 | Q11: =IF($A11="",0,IFERROR(VLOOKUP($A11,ANNEE!$O$15:$P$27,2,FALSE),WEEKDAY($A11,2))) -> 0 | S11: =LEFT(O11,1) | T11: =T10+F11 -> 0
E12: =IF((C12-B12)<0,C12-B12+1,C12-B12) -> 0 | J12: =SUM(F12:I12) -> 0 | N12: =SUM(K12:M12) -> 0 | Q12: =IF($A12="",0,IFERROR(VLOOKUP($A12,ANNEE!$O$15:$P$27,2,FALSE),WEEKDAY($A12,2))) -> 0 | S12: =LEFT(O12,1) | T12: =T11+F12 -> 0
E13: =IF((C13-B13)<0,C13-B13+1,C13-B13) -> 0 | J13: =SUM(F13:I13) -> 0 | N13: =SUM(K13:M13) -> 0 | Q13: =IF($A13="",0,IFERROR(VLOOKUP($A13,ANNEE!$O$15:$P$27,2,FALSE),WEEKDAY($A13,2))) -> 0 | S13: =LEFT(O13,1) | T13: =T12+F13 -> 0
E14: =IF((C14-B14)<0,C14-B14+1,C14-B14) -> 0 | J14: =SUM(F14:I14) -> 0 | N14: =SUM(K14:M14) -> 0 | Q14: =IF($A14="",0,IFERROR(VLOOKUP($A14,ANNEE!$O$15:$P$27,2,FALSE),WEEKDAY($A14,2))) -> 0 | S14: =LEFT(O14,1) | T14: =T13+F14 -> 0
E15: =IF((C15-B15)<0,C15-B15+1,C15-B15) -> 0 | J15: =SUM(F15:I15) -> 0 | N15: =SUM(K15:M15) -> 0 | Q15: =IF($A15="",0,IFERROR(VLOOKUP($A15,ANNEE!$O$15:$P$27,2,FALSE),WEEKDAY($A15,2))) -> 0 | S15: =LEFT(O15,1) | T15: =T14+F15 -> 0
E16: =IF((C16-B16)<0,C16-B16+1,C16-B16) -> 0 | J16: =SUM(F16:I16) -> 0 | N16: =SUM(K16:M16) -> 0 | Q16: =IF($A16="",0,IFERROR(VLOOKUP($A16,ANNEE!$O$15:$P$27,2,FALSE),WEEKDAY($A16,2))) -> 0 | S16: =LEFT(O16,1) | T16: =T15+F16 -> 0
E17: =IF((C17-B17)<0,C17-B17+1,C17-B17) -> 0 | J17: =SUM(F17:I17) -> 0 | N17: =SUM(K17:M17) -> 0 | Q17: =IF($A17="",0,IFERROR(VLOOKUP($A17,ANNEE!$O$15:$P$27,2,FALSE),WEEKDAY($A17,2))) -> 0 | S17: =LEFT(O17,1) | T17: =T16+F17 -> 0
... E24: =IF((C24-B24)<0,C24-B24+1,C24-B24) -> 0 | J24: =SUM(F24:I24) -> 0 | N24: =SUM(K24:M24) -> 0 | Q24: =IF($A24="",0,IFERROR(VLOOKUP($A24,ANNEE!$O$15:$P$27,2,FALSE),WEEKDAY($A24,2))) -> 0 | S24: =LEFT(O24,1) | T24: =T23+F24 -> 0
A25: DECLARATION des Heures Récupérées dans le mois : | F25: =SUM(F5:F24) -> 0 | G25: =SUM(G5:G24) -> 0 | H25: =SUM(H5:H24) -> 0 | I25: =SUM(I5:I24) -> 0 | J25: =SUM(J5:J24) -> 0 | K25: =SUM(K5:K24) -> 0 | L25: =SUM(L5:L24) -> 0 | M25: =SUM(M5:M24) -> 0 | N25: =SUM(K25:M25) -> 0 | T25: 1.0416667
A26: DECLARATION ASTREINTES | B26: Date début | C26: Date fin | D26: Type d'astreinte | F26: Repos compensateur (oui/non) | K26: Astreintes à payer (oui/non) | O26: Motif
G27: =IF($F27="oui",_xlfn.XLOOKUP($D27,ANNEE!$T$10:$T$51,ANNEE!$U$10:$U$51,0),0) -> 0 | L27: =IF($K27="oui",IF(_xlfn.XLOOKUP($D27,ANNEE!$T$22:$T$51,ANNEE!$S$22:$S$51,0)>0,1,0),0) -> 0 | Q27: =_xlfn.XLOOKUP($D27,ANNEE!$T$22:$T$51,ANNEE!$S$22:$S$51,0) -> 0 | S27: =LEFT(O27,1)
G28: =IF($F28="oui",_xlfn.XLOOKUP($D28,ANNEE!$T$10:$T$51,ANNEE!$U$10:$U$51,0),0) -> 0 | L28: =IF($K28="oui",IF(_xlfn.XLOOKUP($D28,ANNEE!$T$22:$T$51,ANNEE!$S$22:$S$51,0)>0,1,0),0) -> 0 | Q28: =_xlfn.XLOOKUP($D28,ANNEE!$T$22:$T$51,ANNEE!$S$22:$S$51,0) -> 0 | S28: =LEFT(O28,1)
G29: =IF($F29="oui",_xlfn.XLOOKUP($D29,ANNEE!$T$10:$T$51,ANNEE!$U$10:$U$51,0),0) -> 0 | L29: =IF($K29="oui",IF(_xlfn.XLOOKUP($D29,ANNEE!$T$22:$T$51,ANNEE!$S$22:$S$51,0)>0,1,0),0) -> 0 | Q29: =_xlfn.XLOOKUP($D29,ANNEE!$T$22:$T$51,ANNEE!$S$22:$S$51,0) -> 0 | S29: =LEFT(O29,1)
G30: =IF($F30="oui",_xlfn.XLOOKUP($D30,ANNEE!$T$10:$T$51,ANNEE!$U$10:$U$51,0),0) -> 0 | L30: =IF($K30="oui",IF(_xlfn.XLOOKUP($D30,ANNEE!$T$22:$T$51,ANNEE!$S$22:$S$51,0)>0,1,0),0) -> 0 | Q30: =_xlfn.XLOOKUP($D30,ANNEE!$T$22:$T$51,ANNEE!$S$22:$S$51,0) -> 0 | S30: =LEFT(O30,1)
G31: =IF($F31="oui",_xlfn.XLOOKUP($D31,ANNEE!$T$10:$T$51,ANNEE!$U$10:$U$51,0),0) -> 0 | L31: =IF($K31="oui",IF(_xlfn.XLOOKUP($D31,ANNEE!$T$22:$T$51,ANNEE!$S$22:$S$51,0)>0,1,0),0) -> 0 | Q31: =_xlfn.XLOOKUP($D31,ANNEE!$T$22:$T$51,ANNEE!$S$22:$S$51,0) -> 0 | S31: =LEFT(O31,1)
F32: =F$25*ANNEE!D$24++SUM(J27:J31) -> 0 | G32: =G$25*ANNEE!E$24 -> 0 | H32: =H$25*ANNEE!F$24 -> 0 | I32: =I$25*ANNEE!G$24 -> 0 | J32: =SUM(F32:I32)+$E$2-$E$25 -> 0
D33: A Reporter : | E33: =J32 -> 0
D35: Signature agent obligatoire | E35: Signature du Chef de Service | J35: Enregistrement DRH

Sheet SEPTEMBRE
A1: DECLARATION DES HEURES SUPPLEMENTAIRES | G1: =ANNEE!$A$18 &" "&ANNEE!$G$3 -> SEPTEMBRE 2026 | K1: =ANNEE!$F$5 -> AUBRY Clement
A2: Dates | B2: Horaires | D2: Report mois précédent : | E2: =AOUT!$E$33 -> 0 | F2: ="Répartition Heures à Récupérer" & CHAR(10) & "(heures normales de 7h à 22h)" -> Répartition Heures à Récupérer (heures normales de 7h à 22h) | K2: ="Répartition Heures à Payer" & CHAR(10) & "(heures normales de 7h à 22h)" -> Répartition Heures à Payer (heures normales de 7h à 22h)
B3: Début | C3: Fin | D3: Travail effectué | E3: ="Heures" & CHAR(10) & CHAR(10) & "Effectuées" -> Heures Effectuées | F3: ="14" & CHAR(10) & "premières" & CHAR(10) & "heures" -> 14 premières heures | G3: ="Au-delà" & CHAR(10) & "des 14" & CHAR(10) & "premières" & CHAR(10) & "heures" -> Au-delà des 14 premières heures | H3: ="Dimanche" & CHAR(10) & "et jours" & CHAR(10) & "fériés" -> Dimanche et jours fériés | I3: ="Heures" & CHAR(10) & "de nuit" & CHAR(10) & "22h à 7h" -> Heures de nuit 22h à 7h | J3: ="Total" & CHAR(10) &"A"& CHAR(10) & "Récup." -> Total A Récup. | K3: ="Heures" & CHAR(10) & "normales" -> Heures normales | L3: ="Dimanche" & CHAR(10) & "et jours" & CHAR(10) & "fériés" -> Dimanche et jours fériés | M3: ="Heures" & CHAR(10) & "de nuit" & CHAR(10) & "22h à 7h" -> Heures de nuit 22h à 7h | N3: ="Total" & CHAR(10) &"A"& CHAR(10) & "Payé" -> Total A Payé
O4: Motif | T4: 0.58333333
E5: =IF((C5-B5)<0,C5-B5+1,C5-B5) -> 0 | J5: =SUM(F5:I5) -> 0 | N5: =SUM(K5:M5) -> 0 | Q5: =IF($A5="",0,IFERROR(VLOOKUP($A5,ANNEE!$O$15:$P$27,2,FALSE),WEEKDAY($A5,2))) -> 0 | S5: =LEFT(O5,1) | T5: =F5 -> 0
E6: =IF((C6-B6)<0,C6-B6+1,C6-B6) -> 0 | J6: =SUM(F6:I6) -> 0 | N6: =SUM(K6:M6) -> 0 | Q6: =IF($A6="",0,IFERROR(VLOOKUP($A6,ANNEE!$O$15:$P$27,2,FALSE),WEEKDAY($A6,2))) -> 0 | S6: =LEFT(O6,1) | T6: =T5+F6 -> 0
E7: =IF((C7-B7)<0,C7-B7+1,C7-B7) -> 0 | J7: =SUM(F7:I7) -> 0 | N7: =SUM(K7:M7) -> 0 | Q7: =IF($A7="",0,IFERROR(VLOOKUP($A7,ANNEE!$O$15:$P$27,2,FALSE),WEEKDAY($A7,2))) -> 0 | S7: =LEFT(O7,1) | T7: =T6+F7 -> 0
E8: =IF((C8-B8)<0,C8-B8+1,C8-B8) -> 0 | J8: =SUM(F8:I8) -> 0 | N8: =SUM(K8:M8) -> 0 | Q8: =IF($A8="",0,IFERROR(VLOOKUP($A8,ANNEE!$O$15:$P$27,2,FALSE),WEEKDAY($A8,2))) -> 0 | S8: =LEFT(O8,1) | T8: =T7+F8 -> 0
E9: =IF((C9-B9)<0,C9-B9+1,C9-B9) -> 0 | J9: =SUM(F9:I9) -> 0 | N9: =SUM(K9:M9) -> 0 | Q9: =IF($A9="",0,IFERROR(VLOOKUP($A9,ANNEE!$O$15:$P$27,2,FALSE),WEEKDAY($A9,2))) -> 0 | S9: =LEFT(O9,1) | T9: =T8+F9 -> 0
E10: =IF((C10-B10)<0,C10-B10+1,C10-B10) -> 0 | J10: =SUM(F10:I10) -> 0 | N10: =SUM(K10:M10) -> 0 | Q10: =IF($A10="",0,IFERROR(VLOOKUP($A10,ANNEE!$O$15:$P$27,2,FALSE),WEEKDAY($A10,2))) -> 0 | S10: =LEFT(O10,1) | T10: =T9+F10 -> 0
E11: =IF((C11-B11)<0,C11-B11+1,C11-B11) -> 0 | J11: =SUM(F11:I11) -> 0 | N11: =SUM(K11:M11) -> 0 | Q11: =IF($A11="",0,IFERROR(VLOOKUP($A11,ANNEE!$O$15:$P$27,2,FALSE),WEEKDAY($A11,2))) -> 0 | S11: =LEFT(O11,1) | T11: =T10+F11 -> 0
E12: =IF((C12-B12)<0,C12-B12+1,C12-B12) -> 0 | J12: =SUM(F12:I12) -> 0 | N12: =SUM(K12:M12) -> 0 | Q12: =IF($A12="",0,IFERROR(VLOOKUP($A12,ANNEE!$O$15:$P$27,2,FALSE),WEEKDAY($A12,2))) -> 0 | S12: =LEFT(O12,1) | T12: =T11+F12 -> 0
E13: =IF((C13-B13)<0,C13-B13+1,C13-B13) -> 0 | J13: =SUM(F13:I13) -> 0 | N13: =SUM(K13:M13) -> 0 | Q13: =IF($A13="",0,IFERROR(VLOOKUP($A13,ANNEE!$O$15:$P$27,2,FALSE),WEEKDAY($A13,2))) -> 0 | S13: =LEFT(O13,1) | T13: =T12+F13 -> 0
E14: =IF((C14-B14)<0,C14-B14+1,C14-B14) -> 0 | J14: =SUM(F14:I14) -> 0 | N14: =SUM(K14:M14) -> 0 | Q14: =IF($A14="",0,IFERROR(VLOOKUP($A14,ANNEE!$O$15:$P$27,2,FALSE),WEEKDAY($A14,2))) -> 0 | S14: =LEFT(O14,1) | T14: =T13+F14 -> 0
E15: =IF((C15-B15)<0,C15-B15+1,C15-B15) -> 0 | J15: =SUM(F15:I15) -> 0 | N15: =SUM(K15:M15) -> 0 | Q15: =IF($A15="",0,IFERROR(VLOOKUP($A15,ANNEE!$O$15:$P$27,2,FALSE),WEEKDAY($A15,2))) -> 0 | S15: =LEFT(O15,1) | T15: =T14+F15 -> 0
E16: =IF((C16-B16)<0,C16-B16+1,C16-B16) -> 0 | J16: =SUM(F16:I16) -> 0 | N16: =SUM(K16:M16) -> 0 | Q16: =IF($A16="",0,IFERROR(VLOOKUP($A16,ANNEE!$O$15:$P$27,2,FALSE),WEEKDAY($A16,2))) -> 0 | S16: =LEFT(O16,1) | T16: =T15+F16 -> 0
E17: =IF((C17-B17)<0,C17-B17+1,C17-B17) -> 0 | J17: =SUM(F17:I17) -> 0 | N17: =SUM(K17:M17) -> 0 | Q17: =IF($A17="",0,IFERROR(VLOOKUP($A17,ANNEE!$O$15:$P$27,2,FALSE),WEEKDAY($A17,2))) -> 0 | S17: =LEFT(O17,1) | T17: =T16+F17 -> 0
... E24: =IF((C24-B24)<0,C24-B24+1,C24-B24) -> 0 | J24: =SUM(F24:I24) -> 0 | N24: =SUM(K24:M24) -> 0 | Q24: =IF($A24="",0,IFERROR(VLOOKUP($A24,ANNEE!$O$15:$P$27,2,FALSE),WEEKDAY($A24,2))) -> 0 | S24: =LEFT(O24,1) | T24: =T23+F24 -> 0
A25: DECLARATION des Heures Récupérées dans le mois : | F25: =SUM(F5:F24) -> 0 | G25: =SUM(G5:G24) -> 0 | H25: =SUM(H5:H24) -> 0 | I25: =SUM(I5:I24) -> 0 | J25: =SUM(J5:J24) -> 0 | K25: =SUM(K5:K24) -> 0 | L25: =SUM(L5:L24) -> 0 | M25: =SUM(M5:M24) -> 0 | N25: =SUM(K25:M25) -> 0 | T25: 1.0416667
A26: DECLARATION ASTREINTES | B26: Date début | C26: Date fin | D26: Type d'astreinte | F26: Repos compensateur (oui/non) | K26: Astreintes à payer (oui/non) | O26: Motif
G27: =IF($F27="oui",_xlfn.XLOOKUP($D27,ANNEE!$T$10:$T$51,ANNEE!$U$10:$U$51,0),0) -> 0 | L27: =IF($K27="oui",IF(_xlfn.XLOOKUP($D27,ANNEE!$T$22:$T$51,ANNEE!$S$22:$S$51,0)>0,1,0),0) -> 0 | Q27: =_xlfn.XLOOKUP($D27,ANNEE!$T$22:$T$51,ANNEE!$S$22:$S$51,0) -> 0 | S27: =LEFT(O27,1)
G28: =IF($F28="oui",_xlfn.XLOOKUP($D28,ANNEE!$T$10:$T$51,ANNEE!$U$10:$U$51,0),0) -> 0 | L28: =IF($K28="oui",IF(_xlfn.XLOOKUP($D28,ANNEE!$T$22:$T$51,ANNEE!$S$22:$S$51,0)>0,1,0),0) -> 0 | Q28: =_xlfn.XLOOKUP($D28,ANNEE!$T$22:$T$51,ANNEE!$S$22:$S$51,0) -> 0 | S28: =LEFT(O28,1)
G29: =IF($F29="oui",_xlfn.XLOOKUP($D29,ANNEE!$T$10:$T$51,ANNEE!$U$10:$U$51,0),0) -> 0 | L29: =IF($K29="oui",IF(_xlfn.XLOOKUP($D29,ANNEE!$T$22:$T$51,ANNEE!$S$22:$S$51,0)>0,1,0),0) -> 0 | Q29: =_xlfn.XLOOKUP($D29,ANNEE!$T$22:$T$51,ANNEE!$S$22:$S$51,0) -> 0 | S29: =LEFT(O29,1)
G30: =IF($F30="oui",_xlfn.XLOOKUP($D30,ANNEE!$T$10:$T$51,ANNEE!$U$10:$U$51,0),0) -> 0 | L30: =IF($K30="oui",IF(_xlfn.XLOOKUP($D30,ANNEE!$T$22:$T$51,ANNEE!$S$22:$S$51,0)>0,1,0),0) -> 0 | Q30: =_xlfn.XLOOKUP($D30,ANNEE!$T$22:$T$51,ANNEE!$S$22:$S$51,0) -> 0 | S30: =LEFT(O30,1)
G31: =IF($F31="oui",_xlfn.XLOOKUP($D31,ANNEE!$T$10:$T$51,ANNEE!$U$10:$U$51,0),0) -> 0 | L31: =IF($K31="oui",IF(_xlfn.XLOOKUP($D31,ANNEE!$T$22:$T$51,ANNEE!$S$22:$S$51,0)>0,1,0),0) -> 0 | Q31: =_xlfn.XLOOKUP($D31,ANNEE!$T$22:$T$51,ANNEE!$S$22:$S$51,0) -> 0 | S31: =LEFT(O31,1)
F32: =F$25*ANNEE!D$24++SUM(J27:J31) -> 0 | G32: =G$25*ANNEE!E$24 -> 0 | H32: =H$25*ANNEE!F$24 -> 0 | I32: =I$25*ANNEE!G$24 -> 0 | J32: =SUM(F32:I32)+$E$2-$E$25 -> 0
D33: A Reporter : | E33: =J32 -> 0
D35: Signature agent obligatoire | E35: Signature du Chef de Service | J35: Enregistrement DRH

Sheet OCTOBRE
A1: DECLARATION DES HEURES SUPPLEMENTAIRES | G1: =ANNEE!$A$19 &" "&ANNEE!$G$3 -> OCTOBRE 2026 | K1: =ANNEE!$F$5 -> AUBRY Clement
A2: Dates | B2: Horaires | D2: Report mois précédent : | E2: =SEPTEMBRE!$E$33 -> 0 | F2: ="Répartition Heures à Récupérer" & CHAR(10) & "(heures normales de 7h à 22h)" -> Répartition Heures à Récupérer (heures normales de 7h à 22h) | K2: ="Répartition Heures à Payer" & CHAR(10) & "(heures normales de 7h à 22h)" -> Répartition Heures à Payer (heures normales de 7h à 22h)
B3: Début | C3: Fin | D3: Travail effectué | E3: ="Heures" & CHAR(10) & CHAR(10) & "Effectuées" -> Heures Effectuées | F3: ="14" & CHAR(10) & "premières" & CHAR(10) & "heures" -> 14 premières heures | G3: ="Au-delà" & CHAR(10) & "des 14" & CHAR(10) & "premières" & CHAR(10) & "heures" -> Au-delà des 14 premières heures | H3: ="Dimanche" & CHAR(10) & "et jours" & CHAR(10) & "fériés" -> Dimanche et jours fériés | I3: ="Heures" & CHAR(10) & "de nuit" & CHAR(10) & "22h à 7h" -> Heures de nuit 22h à 7h | J3: ="Total" & CHAR(10) &"A"& CHAR(10) & "Récup." -> Total A Récup. | K3: ="Heures" & CHAR(10) & "normales" -> Heures normales | L3: ="Dimanche" & CHAR(10) & "et jours" & CHAR(10) & "fériés" -> Dimanche et jours fériés | M3: ="Heures" & CHAR(10) & "de nuit" & CHAR(10) & "22h à 7h" -> Heures de nuit 22h à 7h | N3: ="Total" & CHAR(10) &"A"& CHAR(10) & "Payé" -> Total A Payé
O4: Motif | T4: 0.58333333
E5: =IF((C5-B5)<0,C5-B5+1,C5-B5) -> 0 | J5: =SUM(F5:I5) -> 0 | N5: =SUM(K5:M5) -> 0 | Q5: =IF($A5="",0,IFERROR(VLOOKUP($A5,ANNEE!$O$15:$P$27,2,FALSE),WEEKDAY($A5,2))) -> 0 | S5: =LEFT(O5,1) | T5: =F5 -> 0
E6: =IF((C6-B6)<0,C6-B6+1,C6-B6) -> 0 | J6: =SUM(F6:I6) -> 0 | N6: =SUM(K6:M6) -> 0 | Q6: =IF($A6="",0,IFERROR(VLOOKUP($A6,ANNEE!$O$15:$P$27,2,FALSE),WEEKDAY($A6,2))) -> 0 | S6: =LEFT(O6,1) | T6: =T5+F6 -> 0
E7: =IF((C7-B7)<0,C7-B7+1,C7-B7) -> 0 | J7: =SUM(F7:I7) -> 0 | N7: =SUM(K7:M7) -> 0 | Q7: =IF($A7="",0,IFERROR(VLOOKUP($A7,ANNEE!$O$15:$P$27,2,FALSE),WEEKDAY($A7,2))) -> 0 | S7: =LEFT(O7,1) | T7: =T6+F7 -> 0
E8: =IF((C8-B8)<0,C8-B8+1,C8-B8) -> 0 | J8: =SUM(F8:I8) -> 0 | N8: =SUM(K8:M8) -> 0 | Q8: =IF($A8="",0,IFERROR(VLOOKUP($A8,ANNEE!$O$15:$P$27,2,FALSE),WEEKDAY($A8,2))) -> 0 | S8: =LEFT(O8,1) | T8: =T7+F8 -> 0
E9: =IF((C9-B9)<0,C9-B9+1,C9-B9) -> 0 | J9: =SUM(F9:I9) -> 0 | N9: =SUM(K9:M9) -> 0 | Q9: =IF($A9="",0,IFERROR(VLOOKUP($A9,ANNEE!$O$15:$P$27,2,FALSE),WEEKDAY($A9,2))) -> 0 | S9: =LEFT(O9,1) | T9: =T8+F9 -> 0
E10: =IF((C10-B10)<0,C10-B10+1,C10-B10) -> 0 | J10: =SUM(F10:I10) -> 0 | N10: =SUM(K10:M10) -> 0 | Q10: =IF($A10="",0,IFERROR(VLOOKUP($A10,ANNEE!$O$15:$P$27,2,FALSE),WEEKDAY($A10,2))) -> 0 | S10: =LEFT(O10,1) | T10: =T9+F10 -> 0
E11: =IF((C11-B11)<0,C11-B11+1,C11-B11) -> 0 | J11: =SUM(F11:I11) -> 0 | N11: =SUM(K11:M11) -> 0 | Q11: =IF($A11="",0,IFERROR(VLOOKUP($A11,ANNEE!$O$15:$P$27,2,FALSE),WEEKDAY($A11,2))) -> 0 | S11: =LEFT(O11,1) | T11: =T10+F11 -> 0
E12: =IF((C12-B12)<0,C12-B12+1,C12-B12) -> 0 | J12: =SUM(F12:I12) -> 0 | N12: =SUM(K12:M12) -> 0 | Q12: =IF($A12="",0,IFERROR(VLOOKUP($A12,ANNEE!$O$15:$P$27,2,FALSE),WEEKDAY($A12,2))) -> 0 | S12: =LEFT(O12,1) | T12: =T11+F12 -> 0
E13: =IF((C13-B13)<0,C13-B13+1,C13-B13) -> 0 | J13: =SUM(F13:I13) -> 0 | N13: =SUM(K13:M13) -> 0 | Q13: =IF($A13="",0,IFERROR(VLOOKUP($A13,ANNEE!$O$15:$P$27,2,FALSE),WEEKDAY($A13,2))) -> 0 | S13: =LEFT(O13,1) | T13: =T12+F13 -> 0
E14: =IF((C14-B14)<0,C14-B14+1,C14-B14) -> 0 | J14: =SUM(F14:I14) -> 0 | N14: =SUM(K14:M14) -> 0 | Q14: =IF($A14="",0,IFERROR(VLOOKUP($A14,ANNEE!$O$15:$P$27,2,FALSE),WEEKDAY($A14,2))) -> 0 | S14: =LEFT(O14,1) | T14: =T13+F14 -> 0
E15: =IF((C15-B15)<0,C15-B15+1,C15-B15) -> 0 | J15: =SUM(F15:I15) -> 0 | N15: =SUM(K15:M15) -> 0 | Q15: =IF($A15="",0,IFERROR(VLOOKUP($A15,ANNEE!$O$15:$P$27,2,FALSE),WEEKDAY($A15,2))) -> 0 | S15: =LEFT(O15,1) | T15: =T14+F15 -> 0
E16: =IF((C16-B16)<0,C16-B16+1,C16-B16) -> 0 | J16: =SUM(F16:I16) -> 0 | N16: =SUM(K16:M16) -> 0 | Q16: =IF($A16="",0,IFERROR(VLOOKUP($A16,ANNEE!$O$15:$P$27,2,FALSE),WEEKDAY($A16,2))) -> 0 | S16: =LEFT(O16,1) | T16: =T15+F16 -> 0
E17: =IF((C17-B17)<0,C17-B17+1,C17-B17) -> 0 | J17: =SUM(F17:I17) -> 0 | N17: =SUM(K17:M17) -> 0 | Q17: =IF($A17="",0,IFERROR(VLOOKUP($A17,ANNEE!$O$15:$P$27,2,FALSE),WEEKDAY($A17,2))) -> 0 | S17: =LEFT(O17,1) | T17: =T16+F17 -> 0
... E24: =IF((C24-B24)<0,C24-B24+1,C24-B24) -> 0 | J24: =SUM(F24:I24) -> 0 | N24: =SUM(K24:M24) -> 0 | Q24: =IF($A24="",0,IFERROR(VLOOKUP($A24,ANNEE!$O$15:$P$27,2,FALSE),WEEKDAY($A24,2))) -> 0 | S24: =LEFT(O24,1) | T24: =T23+F24 -> 0
A25: DECLARATION des Heures Récupérées dans le mois : | F25: =SUM(F5:F24) -> 0 | G25: =SUM(G5:G24) -> 0 | H25: =SUM(H5:H24) -> 0 | I25: =SUM(I5:I24) -> 0 | J25: =SUM(J5:J24) -> 0 | K25: =SUM(K5:K24) -> 0 | L25: =SUM(L5:L24) -> 0 | M25: =SUM(M5:M24) -> 0 | N25: =SUM(K25:M25) -> 0 | T25: 1.0416667
A26: DECLARATION ASTREINTES | B26: Date début | C26: Date fin | D26: Type d'astreinte | F26: Repos compensateur (oui/non) | K26: Astreintes à payer (oui/non) | O26: Motif
G27: =IF($F27="oui",_xlfn.XLOOKUP($D27,ANNEE!$T$10:$T$51,ANNEE!$U$10:$U$51,0),0) -> 0 | L27: =IF($K27="oui",IF(_xlfn.XLOOKUP($D27,ANNEE!$T$22:$T$51,ANNEE!$S$22:$S$51,0)>0,1,0),0) -> 0 | Q27: =_xlfn.XLOOKUP($D27,ANNEE!$T$22:$T$51,ANNEE!$S$22:$S$51,0) -> 0 | S27: =LEFT(O27,1)
G28: =IF($F28="oui",_xlfn.XLOOKUP($D28,ANNEE!$T$10:$T$51,ANNEE!$U$10:$U$51,0),0) -> 0 | L28: =IF($K28="oui",IF(_xlfn.XLOOKUP($D28,ANNEE!$T$22:$T$51,ANNEE!$S$22:$S$51,0)>0,1,0),0) -> 0 | Q28: =_xlfn.XLOOKUP($D28,ANNEE!$T$22:$T$51,ANNEE!$S$22:$S$51,0) -> 0 | S28: =LEFT(O28,1)
G29: =IF($F29="oui",_xlfn.XLOOKUP($D29,ANNEE!$T$10:$T$51,ANNEE!$U$10:$U$51,0),0) -> 0 | L29: =IF($K29="oui",IF(_xlfn.XLOOKUP($D29,ANNEE!$T$22:$T$51,ANNEE!$S$22:$S$51,0)>0,1,0),0) -> 0 | Q29: =_xlfn.XLOOKUP($D29,ANNEE!$T$22:$T$51,ANNEE!$S$22:$S$51,0) -> 0 | S29: =LEFT(O29,1)
G30: =IF($F30="oui",_xlfn.XLOOKUP($D30,ANNEE!$T$10:$T$51,ANNEE!$U$10:$U$51,0),0) -> 0 | L30: =IF($K30="oui",IF(_xlfn.XLOOKUP($D30,ANNEE!$T$22:$T$51,ANNEE!$S$22:$S$51,0)>0,1,0),0) -> 0 | Q30: =_xlfn.XLOOKUP($D30,ANNEE!$T$22:$T$51,ANNEE!$S$22:$S$51,0) -> 0 | S30: =LEFT(O30,1)
G31: =IF($F31="oui",_xlfn.XLOOKUP($D31,ANNEE!$T$10:$T$51,ANNEE!$U$10:$U$51,0),0) -> 0 | L31: =IF($K31="oui",IF(_xlfn.XLOOKUP($D31,ANNEE!$T$22:$T$51,ANNEE!$S$22:$S$51,0)>0,1,0),0) -> 0 | Q31: =_xlfn.XLOOKUP($D31,ANNEE!$T$22:$T$51,ANNEE!$S$22:$S$51,0) -> 0 | S31: =LEFT(O31,1)
F32: =F$25*ANNEE!D$24++SUM(J27:J31) -> 0 | G32: =G$25*ANNEE!E$24 -> 0 | H32: =H$25*ANNEE!F$24 -> 0 | I32: =I$25*ANNEE!G$24 -> 0 | J32: =SUM(F32:I32)+$E$2-$E$25 -> 0
D33: A Reporter : | E33: =J32 -> 0
D35: Signature agent obligatoire | E35: Signature du Chef de Service | J35: Enregistrement DRH

Sheet NOVEMBRE
A1: DECLARATION DES HEURES SUPPLEMENTAIRES | G1: =ANNEE!$A$20 &" "&ANNEE!$G$3 -> NOVEMBRE 2026 | K1: =ANNEE!$F$5 -> AUBRY Clement
A2: Dates | B2: Horaires | D2: Report mois précédent : | E2: =OCTOBRE!$E$33 -> 0 | F2: ="Répartition Heures à Récupérer" & CHAR(10) & "(heures normales de 7h à 22h)" -> Répartition Heures à Récupérer (heures normales de 7h à 22h) | K2: ="Répartition Heures à Payer" & CHAR(10) & "(heures normales de 7h à 22h)" -> Répartition Heures à Payer (heures normales de 7h à 22h)
B3: Début | C3: Fin | D3: Travail effectué | E3: ="Heures" & CHAR(10) & CHAR(10) & "Effectuées" -> Heures Effectuées | F3: ="14" & CHAR(10) & "premières" & CHAR(10) & "heures" -> 14 premières heures | G3: ="Au-delà" & CHAR(10) & "des 14" & CHAR(10) & "premières" & CHAR(10) & "heures" -> Au-delà des 14 premières heures | H3: ="Dimanche" & CHAR(10) & "et jours" & CHAR(10) & "fériés" -> Dimanche et jours fériés | I3: ="Heures" & CHAR(10) & "de nuit" & CHAR(10) & "22h à 7h" -> Heures de nuit 22h à 7h | J3: ="Total" & CHAR(10) &"A"& CHAR(10) & "Récup." -> Total A Récup. | K3: ="Heures" & CHAR(10) & "normales" -> Heures normales | L3: ="Dimanche" & CHAR(10) & "et jours" & CHAR(10) & "fériés" -> Dimanche et jours fériés | M3: ="Heures" & CHAR(10) & "de nuit" & CHAR(10) & "22h à 7h" -> Heures de nuit 22h à 7h | N3: ="Total" & CHAR(10) &"A"& CHAR(10) & "Payé" -> Total A Payé
O4: Motif | T4: 0.58333333
E5: =IF((C5-B5)<0,C5-B5+1,C5-B5) -> 0 | J5: =SUM(F5:I5) -> 0 | N5: =SUM(K5:M5) -> 0 | Q5: =IF($A5="",0,IFERROR(VLOOKUP($A5,ANNEE!$O$15:$P$27,2,FALSE),WEEKDAY($A5,2))) -> 0 | S5: =LEFT(O5,1) | T5: =F5 -> 0
E6: =IF((C6-B6)<0,C6-B6+1,C6-B6) -> 0 | J6: =SUM(F6:I6) -> 0 | N6: =SUM(K6:M6) -> 0 | Q6: =IF($A6="",0,IFERROR(VLOOKUP($A6,ANNEE!$O$15:$P$27,2,FALSE),WEEKDAY($A6,2))) -> 0 | S6: =LEFT(O6,1) | T6: =T5+F6 -> 0
E7: =IF((C7-B7)<0,C7-B7+1,C7-B7) -> 0 | J7: =SUM(F7:I7) -> 0 | N7: =SUM(K7:M7) -> 0 | Q7: =IF($A7="",0,IFERROR(VLOOKUP($A7,ANNEE!$O$15:$P$27,2,FALSE),WEEKDAY($A7,2))) -> 0 | S7: =LEFT(O7,1) | T7: =T6+F7 -> 0
E8: =IF((C8-B8)<0,C8-B8+1,C8-B8) -> 0 | J8: =SUM(F8:I8) -> 0 | N8: =SUM(K8:M8) -> 0 | Q8: =IF($A8="",0,IFERROR(VLOOKUP($A8,ANNEE!$O$15:$P$27,2,FALSE),WEEKDAY($A8,2))) -> 0 | S8: =LEFT(O8,1) | T8: =T7+F8 -> 0
E9: =IF((C9-B9)<0,C9-B9+1,C9-B9) -> 0 | J9: =SUM(F9:I9) -> 0 | N9: =SUM(K9:M9) -> 0 | Q9: =IF($A9="",0,IFERROR(VLOOKUP($A9,ANNEE!$O$15:$P$27,2,FALSE),WEEKDAY($A9,2))) -> 0 | S9: =LEFT(O9,1) | T9: =T8+F9 -> 0
E10: =IF((C10-B10)<0,C10-B10+1,C10-B10) -> 0 | J10: =SUM(F10:I10) -> 0 | N10: =SUM(K10:M10) -> 0 | Q10: =IF($A10="",0,IFERROR(VLOOKUP($A10,ANNEE!$O$15:$P$27,2,FALSE),WEEKDAY($A10,2))) -> 0 | S10: =LEFT(O10,1) | T10: =T9+F10 -> 0
E11: =IF((C11-B11)<0,C11-B11+1,C11-B11) -> 0 | J11: =SUM(F11:I11) -> 0 | N11: =SUM(K11:M11) -> 0 | Q11: =IF($A11="",0,IFERROR(VLOOKUP($A11,ANNEE!$O$15:$P$27,2,FALSE),WEEKDAY($A11,2))) -> 0 | S11: =LEFT(O11,1) | T11: =T10+F11 -> 0
E12: =IF((C12-B12)<0,C12-B12+1,C12-B12) -> 0 | J12: =SUM(F12:I12) -> 0 | N12: =SUM(K12:M12) -> 0 | Q12: =IF($A12="",0,IFERROR(VLOOKUP($A12,ANNEE!$O$15:$P$27,2,FALSE),WEEKDAY($A12,2))) -> 0 | S12: =LEFT(O12,1) | T12: =T11+F12 -> 0
E13: =IF((C13-B13)<0,C13-B13+1,C13-B13) -> 0 | J13: =SUM(F13:I13) -> 0 | N13: =SUM(K13:M13) -> 0 | Q13: =IF($A13="",0,IFERROR(VLOOKUP($A13,ANNEE!$O$15:$P$27,2,FALSE),WEEKDAY($A13,2))) -> 0 | S13: =LEFT(O13,1) | T13: =T12+F13 -> 0
E14: =IF((C14-B14)<0,C14-B14+1,C14-B14) -> 0 | J14: =SUM(F14:I14) -> 0 | N14: =SUM(K14:M14) -> 0 | Q14: =IF($A14="",0,IFERROR(VLOOKUP($A14,ANNEE!$O$15:$P$27,2,FALSE),WEEKDAY($A14,2))) -> 0 | S14: =LEFT(O14,1) | T14: =T13+F14 -> 0
E15: =IF((C15-B15)<0,C15-B15+1,C15-B15) -> 0 | J15: =SUM(F15:I15) -> 0 | N15: =SUM(K15:M15) -> 0 | Q15: =IF($A15="",0,IFERROR(VLOOKUP($A15,ANNEE!$O$15:$P$27,2,FALSE),WEEKDAY($A15,2))) -> 0 | S15: =LEFT(O15,1) | T15: =T14+F15 -> 0
E16: =IF((C16-B16)<0,C16-B16+1,C16-B16) -> 0 | J16: =SUM(F16:I16) -> 0 | N16: =SUM(K16:M16) -> 0 | Q16: =IF($A16="",0,IFERROR(VLOOKUP($A16,ANNEE!$O$15:$P$27,2,FALSE),WEEKDAY($A16,2))) -> 0 | S16: =LEFT(O16,1) | T16: =T15+F16 -> 0
E17: =IF((C17-B17)<0,C17-B17+1,C17-B17) -> 0 | J17: =SUM(F17:I17) -> 0 | N17: =SUM(K17:M17) -> 0 | Q17: =IF($A17="",0,IFERROR(VLOOKUP($A17,ANNEE!$O$15:$P$27,2,FALSE),WEEKDAY($A17,2))) -> 0 | S17: =LEFT(O17,1) | T17: =T16+F17 -> 0
... E24: =IF((C24-B24)<0,C24-B24+1,C24-B24) -> 0 | J24: =SUM(F24:I24) -> 0 | N24: =SUM(K24:M24) -> 0 | Q24: =IF($A24="",0,IFERROR(VLOOKUP($A24,ANNEE!$O$15:$P$27,2,FALSE),WEEKDAY($A24,2))) -> 0 | S24: =LEFT(O24,1) | T24: =T23+F24 -> 0
A25: DECLARATION des Heures Récupérées dans le mois : | F25: =SUM(F5:F24) -> 0 | G25: =SUM(G5:G24) -> 0 | H25: =SUM(H5:H24) -> 0 | I25: =SUM(I5:I24) -> 0 | J25: =SUM(J5:J24) -> 0 | K25: =SUM(K5:K24) -> 0 | L25: =SUM(L5:L24) -> 0 | M25: =SUM(M5:M24) -> 0 | N25: =SUM(K25:M25) -> 0 | T25: 1.0416667
A26: DECLARATION ASTREINTES | B26: Date début | C26: Date fin | D26: Type d'astreinte | F26: Repos compensateur (oui/non) | K26: Astreintes à payer (oui/non) | O26: Motif
G27: =IF($F27="oui",_xlfn.XLOOKUP($D27,ANNEE!$T$10:$T$51,ANNEE!$U$10:$U$51,0),0) -> 0 | L27: =IF($K27="oui",IF(_xlfn.XLOOKUP($D27,ANNEE!$T$22:$T$51,ANNEE!$S$22:$S$51,0)>0,1,0),0) -> 0 | Q27: =_xlfn.XLOOKUP($D27,ANNEE!$T$22:$T$51,ANNEE!$S$22:$S$51,0) -> 0 | S27: =LEFT(O27,1)
G28: =IF($F28="oui",_xlfn.XLOOKUP($D28,ANNEE!$T$10:$T$51,ANNEE!$U$10:$U$51,0),0) -> 0 | L28: =IF($K28="oui",IF(_xlfn.XLOOKUP($D28,ANNEE!$T$22:$T$51,ANNEE!$S$22:$S$51,0)>0,1,0),0) -> 0 | Q28: =_xlfn.XLOOKUP($D28,ANNEE!$T$22:$T$51,ANNEE!$S$22:$S$51,0) -> 0 | S28: =LEFT(O28,1)
G29: =IF($F29="oui",_xlfn.XLOOKUP($D29,ANNEE!$T$10:$T$51,ANNEE!$U$10:$U$51,0),0) -> 0 | L29: =IF($K29="oui",IF(_xlfn.XLOOKUP($D29,ANNEE!$T$22:$T$51,ANNEE!$S$22:$S$51,0)>0,1,0),0) -> 0 | Q29: =_xlfn.XLOOKUP($D29,ANNEE!$T$22:$T$51,ANNEE!$S$22:$S$51,0) -> 0 | S29: =LEFT(O29,1)
G30: =IF($F30="oui",_xlfn.XLOOKUP($D30,ANNEE!$T$10:$T$51,ANNEE!$U$10:$U$51,0),0) -> 0 | L30: =IF($K30="oui",IF(_xlfn.XLOOKUP($D30,ANNEE!$T$22:$T$51,ANNEE!$S$22:$S$51,0)>0,1,0),0) -> 0 | Q30: =_xlfn.XLOOKUP($D30,ANNEE!$T$22:$T$51,ANNEE!$S$22:$S$51,0) -> 0 | S30: =LEFT(O30,1)
G31: =IF($F31="oui",_xlfn.XLOOKUP($D31,ANNEE!$T$10:$T$51,ANNEE!$U$10:$U$51,0),0) -> 0 | L31: =IF($K31="oui",IF(_xlfn.XLOOKUP($D31,ANNEE!$T$22:$T$51,ANNEE!$S$22:$S$51,0)>0,1,0),0) -> 0 | Q31: =_xlfn.XLOOKUP($D31,ANNEE!$T$22:$T$51,ANNEE!$S$22:$S$51,0) -> 0 | S31: =LEFT(O31,1)
F32: =F$25*ANNEE!D$24++SUM(J27:J31) -> 0 | G32: =G$25*ANNEE!E$24 -> 0 | H32: =H$25*ANNEE!F$24 -> 0 | I32: =I$25*ANNEE!G$24 -> 0 | J32: =SUM(F32:I32)+$E$2-$E$25 -> 0
D33: A Reporter : | E33: =J32 -> 0
D35: Signature agent obligatoire | E35: Signature du Chef de Service | J35: Enregistrement DRH

Sheet DECEMBRE
A1: DECLARATION DES HEURES SUPPLEMENTAIRES | G1: =ANNEE!$A$21 &" "&ANNEE!$G$3 -> DECEMBRE 2026 | K1: =ANNEE!$F$5 -> AUBRY Clement
A2: Dates | B2: Horaires | D2: Report mois précédent : | E2: =NOVEMBRE!$E$33 -> 0 | F2: ="Répartition Heures à Récupérer" & CHAR(10) & "(heures normales de 7h à 22h)" -> Répartition Heures à Récupérer (heures normales de 7h à 22h) | K2: ="Répartition Heures à Payer" & CHAR(10) & "(heures normales de 7h à 22h)" -> Répartition Heures à Payer (heures normales de 7h à 22h)
B3: Début | C3: Fin | D3: Travail effectué | E3: ="Heures" & CHAR(10) & CHAR(10) & "Effectuées" -> Heures Effectuées | F3: ="14" & CHAR(10) & "premières" & CHAR(10) & "heures" -> 14 premières heures | G3: ="Au-delà" & CHAR(10) & "des 14" & CHAR(10) & "premières" & CHAR(10) & "heures" -> Au-delà des 14 premières heures | H3: ="Dimanche" & CHAR(10) & "et jours" & CHAR(10) & "fériés" -> Dimanche et jours fériés | I3: ="Heures" & CHAR(10) & "de nuit" & CHAR(10) & "22h à 7h" -> Heures de nuit 22h à 7h | J3: ="Total" & CHAR(10) &"A"& CHAR(10) & "Récup." -> Total A Récup. | K3: ="Heures" & CHAR(10) & "normales" -> Heures normales | L3: ="Dimanche" & CHAR(10) & "et jours" & CHAR(10) & "fériés" -> Dimanche et jours fériés | M3: ="Heures" & CHAR(10) & "de nuit" & CHAR(10) & "22h à 7h" -> Heures de nuit 22h à 7h | N3: ="Total" & CHAR(10) &"A"& CHAR(10) & "Payé" -> Total A Payé
O4: Motif | T4: 0.58333333
E5: =IF((C5-B5)<0,C5-B5+1,C5-B5) -> 0 | J5: =SUM(F5:I5) -> 0 | N5: =SUM(K5:M5) -> 0 | Q5: =IF($A5="",0,IFERROR(VLOOKUP($A5,ANNEE!$O$15:$P$27,2,FALSE),WEEKDAY($A5,2))) -> 0 | S5: =LEFT(O5,1) | T5: =F5 -> 0
E6: =IF((C6-B6)<0,C6-B6+1,C6-B6) -> 0 | J6: =SUM(F6:I6) -> 0 | N6: =SUM(K6:M6) -> 0 | Q6: =IF($A6="",0,IFERROR(VLOOKUP($A6,ANNEE!$O$15:$P$27,2,FALSE),WEEKDAY($A6,2))) -> 0 | S6: =LEFT(O6,1) | T6: =T5+F6 -> 0
E7: =IF((C7-B7)<0,C7-B7+1,C7-B7) -> 0 | J7: =SUM(F7:I7) -> 0 | N7: =SUM(K7:M7) -> 0 | Q7: =IF($A7="",0,IFERROR(VLOOKUP($A7,ANNEE!$O$15:$P$27,2,FALSE),WEEKDAY($A7,2))) -> 0 | S7: =LEFT(O7,1) | T7: =T6+F7 -> 0
E8: =IF((C8-B8)<0,C8-B8+1,C8-B8) -> 0 | J8: =SUM(F8:I8) -> 0 | N8: =SUM(K8:M8) -> 0 | Q8: =IF($A8="",0,IFERROR(VLOOKUP($A8,ANNEE!$O$15:$P$27,2,FALSE),WEEKDAY($A8,2))) -> 0 | S8: =LEFT(O8,1) | T8: =T7+F8 -> 0
E9: =IF((C9-B9)<0,C9-B9+1,C9-B9) -> 0 | J9: =SUM(F9:I9) -> 0 | N9: =SUM(K9:M9) -> 0 | Q9: =IF($A9="",0,IFERROR(VLOOKUP($A9,ANNEE!$O$15:$P$27,2,FALSE),WEEKDAY($A9,2))) -> 0 | S9: =LEFT(O9,1) | T9: =T8+F9 -> 0
E10: =IF((C10-B10)<0,C10-B10+1,C10-B10) -> 0 | J10: =SUM(F10:I10) -> 0 | N10: =SUM(K10:M10) -> 0 | Q10: =IF($A10="",0,IFERROR(VLOOKUP($A10,ANNEE!$O$15:$P$27,2,FALSE),WEEKDAY($A10,2))) -> 0 | S10: =LEFT(O10,1) | T10: =T9+F10 -> 0
E11: =IF((C11-B11)<0,C11-B11+1,C11-B11) -> 0 | J11: =SUM(F11:I11) -> 0 | N11: =SUM(K11:M11) -> 0 | Q11: =IF($A11="",0,IFERROR(VLOOKUP($A11,ANNEE!$O$15:$P$27,2,FALSE),WEEKDAY($A11,2))) -> 0 | S11: =LEFT(O11,1) | T11: =T10+F11 -> 0
E12: =IF((C12-B12)<0,C12-B12+1,C12-B12) -> 0 | J12: =SUM(F12:I12) -> 0 | N12: =SUM(K12:M12) -> 0 | Q12: =IF($A12="",0,IFERROR(VLOOKUP($A12,ANNEE!$O$15:$P$27,2,FALSE),WEEKDAY($A12,2))) -> 0 | S12: =LEFT(O12,1) | T12: =T11+F12 -> 0
E13: =IF((C13-B13)<0,C13-B13+1,C13-B13) -> 0 | J13: =SUM(F13:I13) -> 0 | N13: =SUM(K13:M13) -> 0 | Q13: =IF($A13="",0,IFERROR(VLOOKUP($A13,ANNEE!$O$15:$P$27,2,FALSE),WEEKDAY($A13,2))) -> 0 | S13: =LEFT(O13,1) | T13: =T12+F13 -> 0
E14: =IF((C14-B14)<0,C14-B14+1,C14-B14) -> 0 | J14: =SUM(F14:I14) -> 0 | N14: =SUM(K14:M14) -> 0 | Q14: =IF($A14="",0,IFERROR(VLOOKUP($A14,ANNEE!$O$15:$P$27,2,FALSE),WEEKDAY($A14,2))) -> 0 | S14: =LEFT(O14,1) | T14: =T13+F14 -> 0
E15: =IF((C15-B15)<0,C15-B15+1,C15-B15) -> 0 | J15: =SUM(F15:I15) -> 0 | N15: =SUM(K15:M15) -> 0 | Q15: =IF($A15="",0,IFERROR(VLOOKUP($A15,ANNEE!$O$15:$P$27,2,FALSE),WEEKDAY($A15,2))) -> 0 | S15: =LEFT(O15,1) | T15: =T14+F15 -> 0
E16: =IF((C16-B16)<0,C16-B16+1,C16-B16) -> 0 | J16: =SUM(F16:I16) -> 0 | N16: =SUM(K16:M16) -> 0 | Q16: =IF($A16="",0,IFERROR(VLOOKUP($A16,ANNEE!$O$15:$P$27,2,FALSE),WEEKDAY($A16,2))) -> 0 | S16: =LEFT(O16,1) | T16: =T15+F16 -> 0
E17: =IF((C17-B17)<0,C17-B17+1,C17-B17) -> 0 | J17: =SUM(F17:I17) -> 0 | N17: =SUM(K17:M17) -> 0 | Q17: =IF($A17="",0,IFERROR(VLOOKUP($A17,ANNEE!$O$15:$P$27,2,FALSE),WEEKDAY($A17,2))) -> 0 | S17: =LEFT(O17,1) | T17: =T16+F17 -> 0
... E24: =IF((C24-B24)<0,C24-B24+1,C24-B24) -> 0 | J24: =SUM(F24:I24) -> 0 | N24: =SUM(K24:M24) -> 0 | Q24: =IF($A24="",0,IFERROR(VLOOKUP($A24,ANNEE!$O$15:$P$27,2,FALSE),WEEKDAY($A24,2))) -> 0 | S24: =LEFT(O24,1) | T24: =T23+F24 -> 0
A25: DECLARATION des Heures Récupérées dans le mois : | F25: =SUM(F5:F24) -> 0 | G25: =SUM(G5:G24) -> 0 | H25: =SUM(H5:H24) -> 0 | I25: =SUM(I5:I24) -> 0 | J25: =SUM(J5:J24) -> 0 | K25: =SUM(K5:K24) -> 0 | L25: =SUM(L5:L24) -> 0 | M25: =SUM(M5:M24) -> 0 | N25: =SUM(K25:M25) -> 0 | T25: 1.0416667
A26: DECLARATION ASTREINTES | B26: Date début | C26: Date fin | D26: Type d'astreinte | F26: Repos compensateur (oui/non) | K26: Astreintes à payer (oui/non) | O26: Motif
G27: =IF($F27="oui",_xlfn.XLOOKUP($D27,ANNEE!$T$10:$T$51,ANNEE!$U$10:$U$51,0),0) -> 0 | L27: =IF($K27="oui",IF(_xlfn.XLOOKUP($D27,ANNEE!$T$22:$T$51,ANNEE!$S$22:$S$51,0)>0,1,0),0) -> 0 | Q27: =_xlfn.XLOOKUP($D27,ANNEE!$T$22:$T$51,ANNEE!$S$22:$S$51,0) -> 0 | S27: =LEFT(O27,1)
G28: =IF($F28="oui",_xlfn.XLOOKUP($D28,ANNEE!$T$10:$T$51,ANNEE!$U$10:$U$51,0),0) -> 0 | L28: =IF($K28="oui",IF(_xlfn.XLOOKUP($D28,ANNEE!$T$22:$T$51,ANNEE!$S$22:$S$51,0)>0,1,0),0) -> 0 | Q28: =_xlfn.XLOOKUP($D28,ANNEE!$T$22:$T$51,ANNEE!$S$22:$S$51,0) -> 0 | S28: =LEFT(O28,1)
G29: =IF($F29="oui",_xlfn.XLOOKUP($D29,ANNEE!$T$10:$T$51,ANNEE!$U$10:$U$51,0),0) -> 0 | L29: =IF($K29="oui",IF(_xlfn.XLOOKUP($D29,ANNEE!$T$22:$T$51,ANNEE!$S$22:$S$51,0)>0,1,0),0) -> 0 | Q29: =_xlfn.XLOOKUP($D29,ANNEE!$T$22:$T$51,ANNEE!$S$22:$S$51,0) -> 0 | S29: =LEFT(O29,1)
G30: =IF($F30="oui",_xlfn.XLOOKUP($D30,ANNEE!$T$10:$T$51,ANNEE!$U$10:$U$51,0),0) -> 0 | L30: =IF($K30="oui",IF(_xlfn.XLOOKUP($D30,ANNEE!$T$22:$T$51,ANNEE!$S$22:$S$51,0)>0,1,0),0) -> 0 | Q30: =_xlfn.XLOOKUP($D30,ANNEE!$T$22:$T$51,ANNEE!$S$22:$S$51,0) -> 0 | S30: =LEFT(O30,1)
G31: =IF($F31="oui",_xlfn.XLOOKUP($D31,ANNEE!$T$10:$T$51,ANNEE!$U$10:$U$51,0),0) -> 0 | L31: =IF($K31="oui",IF(_xlfn.XLOOKUP($D31,ANNEE!$T$22:$T$51,ANNEE!$S$22:$S$51,0)>0,1,0),0) -> 0 | Q31: =_xlfn.XLOOKUP($D31,ANNEE!$T$22:$T$51,ANNEE!$S$22:$S$51,0) -> 0 | S31: =LEFT(O31,1)
F32: =F$25*ANNEE!D$24++SUM(J27:J31) -> 0 | G32: =G$25*ANNEE!E$24 -> 0 | H32: =H$25*ANNEE!F$24 -> 0 | I32: =I$25*ANNEE!G$24 -> 0 | J32: =SUM(F32:I32)+$E$2-$E$25 -> 0
D33: A Reporter : | E33: =J32 -> 0
D35: Signature agent obligatoire | E35: Signature du Chef de Service | J35: Enregistrement DRH
